BEGIN:VCALENDAR
VERSION:2.0
PRODID:-//ChamberMaster//Event Calendar 2.0//EN
METHOD:PUBLISH
X-PUBLISHED-TTL:P3D
REFRESH-INTERVAL:P3D
CALSCALE:GREGORIAN
BEGIN:VEVENT
DTSTART:20100422T233000Z
DTEND:20100423T013000Z
X-MICROSOFT-CDO-ALLDAYEVENT:FALSE
SUMMARY:April Business After Hours
DESCRIPTION:George Schock Photography and Thomas Kinkade Gallery
X-ALT-DESC;FMTTYPE=text/html:<div>&nbsp\;</div><div align="center">&nbsp\;</div><div align="center"><span style="font-weight: 700"><font face="Tahoma"><font size="2">George Schock Photography and Thomas Kinkade Gallery</font></font></span></div><div align="center">&nbsp\;</div>
LOCATION:231 MilwaukeeDenver\, CO
UID:e.281.409
SEQUENCE:3
DTSTAMP:20260420T012059Z
URL:http://chambermaster.cherrycreekchamber.org/events/details/april-business-after-hours-04-22-2010-409
END:VEVENT

END:VCALENDAR
