BEGIN:VCALENDAR
VERSION:2.0
PRODID:-//ChamberMaster//Event Calendar 2.0//EN
METHOD:PUBLISH
X-PUBLISHED-TTL:P3D
REFRESH-INTERVAL:P3D
CALSCALE:GREGORIAN
BEGIN:VEVENT
DTSTART:20100610T133000Z
DTEND:20100610T150000Z
X-MICROSOFT-CDO-ALLDAYEVENT:FALSE
SUMMARY:Breakfast with John Hickenlooper
DESCRIPTION:The Greater Glendale Chamber of Commerce invites \nthe Cherry Creek Chamber members to a special \nevent breakfast to meet gubernatorial candidate \nJohn Hickenlooper
X-ALT-DESC;FMTTYPE=text/html:<div>The Greater Glendale Chamber of Commerce invites <br />the Cherry Creek Chamber members to a special <br />event breakfast to meet gubernatorial candidate <br />John Hickenlooper</div>
LOCATION:Holiday Inn Select455 South Colorado Blvd Glendale\, CO 80246
UID:e.281.422
SEQUENCE:3
DTSTAMP:20260419T223139Z
URL:http://chambermaster.cherrycreekchamber.org/events/details/breakfast-with-john-hickenlooper-06-10-2010-422
END:VEVENT

END:VCALENDAR
