BEGIN:VCALENDAR
VERSION:2.0
PRODID:-//ChamberMaster//Event Calendar 2.0//EN
METHOD:PUBLISH
X-PUBLISHED-TTL:P3D
REFRESH-INTERVAL:P3D
CALSCALE:GREGORIAN
BEGIN:VEVENT
DTSTART:20100414T133000Z
DTEND:20100414T150000Z
X-MICROSOFT-CDO-ALLDAYEVENT:FALSE
SUMMARY:Breakfast with Scott McGinnis
DESCRIPTION:The Greater Glendale Chamber of Commerce invites \nthe Cherry Creek Chamber members to a special \nevent breakfast to meet gubernatorial candidate \nScott McInnis
X-ALT-DESC;FMTTYPE=text/html:<div>The Greater Glendale Chamber of Commerce invites <br />the Cherry Creek Chamber members to a special <br />event breakfast to meet gubernatorial candidate <br />Scott McInnis</div>
LOCATION:Holiday Inn Select455 South Colorado Blvd Glendale\, CO 80246
UID:e.281.413
SEQUENCE:3
DTSTAMP:20260420T011937Z
URL:http://chambermaster.cherrycreekchamber.org/events/details/breakfast-with-scott-mcginnis-04-14-2010-413
END:VEVENT

END:VCALENDAR
