BEGIN:VCALENDAR
VERSION:2.0
PRODID:-//ChamberMaster//Event Calendar 2.0//EN
METHOD:PUBLISH
X-PUBLISHED-TTL:P3D
REFRESH-INTERVAL:P3D
CALSCALE:GREGORIAN
BEGIN:VEVENT
DTSTART:20100115T003000Z
DTEND:20100115T023000Z
X-MICROSOFT-CDO-ALLDAYEVENT:FALSE
SUMMARY:Business After Hours
DESCRIPTION:January Business After HoursThe Wellness Center\nUpstairs inside Whole Foods Market\n\n\nJoin the CCC and the Wellness Center for the January \nBusiness After hours. An evening of networking\, \ncocktails\, appetizers\, and resolutions
X-ALT-DESC;FMTTYPE=text/html:<div>&nbsp\;</div><div align="center"><span style="font-size: small"><span style="color: #000000"><span style="background-color: #ffffff"><span><span style="font-weight: 700">January Business After Hours</span></span></span></span></span></div><div align="center"><span style="font-size: small"><span style="color: #000000"><span style="background-color: #ffffff"><span><span style="font-weight: 700">The Wellness Center<br /><em>Upstairs inside Whole Foods Market</em></span></span></span></span></span><span style="font-weight: 700"><em><font size="2"><br /></font></em><br /></span></div><div align="center"><span style="color: #000000"><span style="font-size: smaller"><span style="font-size: small"><font face="Tahoma"><br /></font><span style="font-size: small"><font face="Tahoma">Join the CCC and the Wellness Center for the January <br />Business After hours. An evening of networking\, <br />cocktails\, appetizers\, and resolutions</font></span></span></span></span></div>
LOCATION:870 S. Colorado Blvd. Denver\, CO 80246
UID:e.281.390
SEQUENCE:3
DTSTAMP:20260420T060039Z
URL:http://chambermaster.cherrycreekchamber.org/events/details/business-after-hours-01-14-2010-390
END:VEVENT

END:VCALENDAR
