BEGIN:VCALENDAR
VERSION:2.0
PRODID:-//ChamberMaster//Event Calendar 2.0//EN
METHOD:PUBLISH
X-PUBLISHED-TTL:P3D
REFRESH-INTERVAL:P3D
CALSCALE:GREGORIAN
BEGIN:VEVENT
DTSTART:20120509T230000Z
DTEND:20120510T010000Z
X-MICROSOFT-CDO-ALLDAYEVENT:FALSE
SUMMARY:Business After Hours
DESCRIPTION:It's a party by the pool!    Join us at Staybridge Suites  for the May Business After Hours.   Enjoy grilled hot dogs\, hamburgers\, chips\, salad and sweets as well as beer\, wine\, softdrinks\, coffee and water.
X-ALT-DESC;FMTTYPE=text/html:<div>\n	<span style="font-size: 12px"><span style="font-family: arial">It&#39\;s a&nbsp\;party by the pool!&nbsp\;&nbsp\;&nbsp\;&nbsp\;Join us at&nbsp\;Staybridge Suites &nbsp\;for the&nbsp\;May Business After Hours.&nbsp\;&nbsp\;&nbsp\;Enjoy&nbsp\;grilled hot dogs\, hamburgers\, chips\, salad and sweets as well as&nbsp\;b<span style="color: black">eer\, wine\,&nbsp\;softdrinks\, coffee and water.</span></span></span><br />\n	&nbsp\;<br />\n	<br />\n	&nbsp\;</div>\n
LOCATION:Staybridge Suites 4220 E. Virginia Ave. Denver\, CO 80246
UID:e.281.645
SEQUENCE:3
DTSTAMP:20260420T100739Z
URL:http://chambermaster.cherrycreekchamber.org/events/details/business-after-hours-05-09-2012-645
END:VEVENT

END:VCALENDAR
