BEGIN:VCALENDAR
VERSION:2.0
PRODID:-//ChamberMaster//Event Calendar 2.0//EN
METHOD:PUBLISH
X-PUBLISHED-TTL:P3D
REFRESH-INTERVAL:P3D
CALSCALE:GREGORIAN
BEGIN:VEVENT
DTSTART:20090915T233000Z
DTEND:20090916T013000Z
X-MICROSOFT-CDO-ALLDAYEVENT:FALSE
SUMMARY:Business After Hours Ashley Campbell
DESCRIPTION:Enjoy the Cherry Creek Chamber's most popular Annual Business After Hoursat Ashley Campbell
X-ALT-DESC;FMTTYPE=text/html:<div>&nbsp\;</div><div align="center"><span style="font-weight: 700"><font face="Tahoma"><font size="2">Enjoy the Cherry Creek Chamber&rsquo\;s most popular Annual Business After Hours</font></font></span></div><div align="center"><span style="font-weight: 700"><font face="Tahoma"><font size="2">at </font></font></span></div><div align="center"><span style="font-weight: 700"><font face="Tahoma"><font size="2">Ashley Campbell</font></font></span></div><div align="center">&nbsp\;</div>
LOCATION:Ashley Campbell\, Inc. 2500 East 1st Ave. Denver\, CO 80206
UID:e.281.380
SEQUENCE:3
DTSTAMP:20260420T115828Z
URL:http://chambermaster.cherrycreekchamber.org/events/details/business-after-hours-ashley-campbell-09-15-2009-380
END:VEVENT

END:VCALENDAR
