BEGIN:VCALENDAR
VERSION:2.0
PRODID:-//ChamberMaster//Event Calendar 2.0//EN
METHOD:PUBLISH
X-PUBLISHED-TTL:P3D
REFRESH-INTERVAL:P3D
CALSCALE:GREGORIAN
BEGIN:VEVENT
DTSTART:20091008T233000Z
DTEND:20091009T013000Z
X-MICROSOFT-CDO-ALLDAYEVENT:FALSE
SUMMARY:Business After Hours Ashley Campbell
DESCRIPTION:Surround yourself with great people\, cocktails\, hors d'oeuvres and beautiful furnishings at the Cherry Creek Chamber of Commerce's October Business After Hours at Ashley Campbell
X-ALT-DESC;FMTTYPE=text/html:<div>&nbsp\;</div><div align="center"><span style="font-weight: 700"><font size="2">Surround yourself with great people\, cocktails\, hors d'oeuvres and beautiful furnishings at the Cherry Creek Chamber of Commerce's October Business After Hours at</font></span></div><div align="center">&nbsp\;</div><div align="center"><span style="font-weight: 700"><font face="Tahoma"><font size="2">Ashley Campbell</font></font></span></div><div align="center">&nbsp\;</div>
LOCATION:Ashley Campbell\, Inc. 262 Fillmore St. Denver\, CO 80206
UID:e.281.381
SEQUENCE:3
DTSTAMP:20260420T115722Z
URL:http://chambermaster.cherrycreekchamber.org/events/details/business-after-hours-ashley-campbell-10-08-2009-381
END:VEVENT

END:VCALENDAR
