BEGIN:VCALENDAR
VERSION:2.0
PRODID:-//ChamberMaster//Event Calendar 2.0//EN
METHOD:PUBLISH
X-PUBLISHED-TTL:P3D
REFRESH-INTERVAL:P3D
CALSCALE:GREGORIAN
BEGIN:VEVENT
DTSTART:20100610T233000Z
DTEND:20100611T013000Z
X-MICROSOFT-CDO-ALLDAYEVENT:FALSE
SUMMARY:Business After Hours at DJUNA
DESCRIPTION:DJUNA
X-ALT-DESC;FMTTYPE=text/html:<div>DJUNA</div><div>&nbsp\;</div>
LOCATION:221 DetroitDenver\, CO 80206
UID:e.281.417
SEQUENCE:3
DTSTAMP:20260419T223943Z
URL:http://chambermaster.cherrycreekchamber.org/events/details/business-after-hours-at-djuna-06-10-2010-417
END:VEVENT

END:VCALENDAR
