BEGIN:VCALENDAR
VERSION:2.0
PRODID:-//ChamberMaster//Event Calendar 2.0//EN
METHOD:PUBLISH
X-PUBLISHED-TTL:P3D
REFRESH-INTERVAL:P3D
CALSCALE:GREGORIAN
BEGIN:VEVENT
DTSTART:20091120T003000Z
DTEND:20091120T023000Z
X-MICROSOFT-CDO-ALLDAYEVENT:FALSE
SUMMARY:Business After Hours at Enstrom's
DESCRIPTION:The "too good to be true" Business After Hours!!!!It is the Chamber's 15th Annual Champagne and Chocolate Business After Hours at Enstrom's but to make it even more delicious\, MICI's will be providing the Hors D'oeuvres!
X-ALT-DESC;FMTTYPE=text/html:<div>&nbsp\;</div><div align="center"><p align="center"><span style="font-size: x-small"><span style=""><font color="#333333" size="5"><strong><font color="#000000">The &quot\;too good to be true&quot\; Business After Hours!!!!</font></strong></font></span></span></p><p align="center"><span style="font-size: x-small"><span style=""><font color="#333333" size="5"><strong><font color="#000000">It is the Chamber&rsquo\;s 15th Annual Champagne and Chocolate Business After Hours at Enstrom&rsquo\;s but to make it even more delicious\, MICI&rsquo\;s will be providing the Hors D&rsquo\;oeuvres! </font></strong></font></span></span></p><p align="center"><font color="#000000"><br /></font></p></div>
LOCATION:Enstrom's 201 University Blvd.Denver\, CO 80206
UID:e.281.387
SEQUENCE:3
DTSTAMP:20260420T090123Z
URL:http://chambermaster.cherrycreekchamber.org/events/details/business-after-hours-at-enstrom-s-11-19-2009-387
END:VEVENT

END:VCALENDAR
