BEGIN:VCALENDAR
VERSION:2.0
PRODID:-//ChamberMaster//Event Calendar 2.0//EN
METHOD:PUBLISH
X-PUBLISHED-TTL:P3D
REFRESH-INTERVAL:P3D
CALSCALE:GREGORIAN
BEGIN:VEVENT
DTSTART:20091204T003000Z
DTEND:20091204T023000Z
X-MICROSOFT-CDO-ALLDAYEVENT:FALSE
SUMMARY:Business After Hours at Great Western Bank
DESCRIPTION:The Annual Holiday Business After Hours.  Join the festivities at Great Western Bank.
X-ALT-DESC;FMTTYPE=text/html:<div>&nbsp\;</div><div align="center"><p align="center"><span style="font-size: x-small"><span><font color="#333333"><strong><font color="#000000">The Annual Holiday Business After Hours.&nbsp\; Join the festivities at Great Western Bank.</font></strong></font></span></span></p><p align="center">&nbsp\;</p><p align="center">&nbsp\;</p><p align="center">&nbsp\;</p><p align="center">&nbsp\;</p><p align="center">&nbsp\;</p><font color="#000000"><br /></font><p>&nbsp\;</p></div>
LOCATION:Great Western Bank 220 Josephine StreetDenver\, CO 80206
UID:e.281.388
SEQUENCE:3
DTSTAMP:20260420T074432Z
URL:http://chambermaster.cherrycreekchamber.org/events/details/business-after-hours-at-great-western-bank-12-03-2009-388
END:VEVENT

END:VCALENDAR
