BEGIN:VCALENDAR
VERSION:2.0
PRODID:-//ChamberMaster//Event Calendar 2.0//EN
METHOD:PUBLISH
X-PUBLISHED-TTL:P3D
REFRESH-INTERVAL:P3D
CALSCALE:GREGORIAN
BEGIN:VEVENT
DTSTART:20101208T003000Z
DTEND:20101208T023000Z
X-MICROSOFT-CDO-ALLDAYEVENT:FALSE
SUMMARY:Business After Hours at Great Western Bank
DESCRIPTION:It's time for our Annual Holiday Business After Hours.  Join Great Western Bank and AAA Colorado for this great opportunity to enjoy networking\, wonderful appetizers\, cocktails and holiday cheer!
X-ALT-DESC;FMTTYPE=text/html:<div>\n	&nbsp\;</div>\n<div align="center">\n	<p align="center">\n		<span style="font-size: x-small"><span><font color="#333333"><strong><font color="#000000">It&#39\;s time for our Annual Holiday Business After Hours.&nbsp\; Join Great Western Bank and AAA Colorado for this great opportunity to enjoy networking\, wonderful appetizers\, cocktails and holiday cheer!</font></strong></font></span></span></p>\n	<p align="center">\n		&nbsp\;</p>\n	<p align="center">\n		&nbsp\;</p>\n	<p align="center">\n		&nbsp\;</p>\n	<p align="center">\n		&nbsp\;</p>\n	<p align="center">\n		&nbsp\;</p>\n	<br />\n	<p>\n		&nbsp\;</p>\n</div>\n
LOCATION:Great Western Bank 220 Josephine StreetDenver\, CO 80206
UID:e.281.446
SEQUENCE:3
DTSTAMP:20260421T083459Z
URL:http://chambermaster.cherrycreekchamber.org/events/details/business-after-hours-at-great-western-bank-12-07-2010-446
END:VEVENT

END:VCALENDAR
