BEGIN:VCALENDAR
VERSION:2.0
PRODID:-//ChamberMaster//Event Calendar 2.0//EN
METHOD:PUBLISH
X-PUBLISHED-TTL:P3D
REFRESH-INTERVAL:P3D
CALSCALE:GREGORIAN
BEGIN:VEVENT
DTSTART:20100909T233000Z
DTEND:20100910T013000Z
X-MICROSOFT-CDO-ALLDAYEVENT:FALSE
SUMMARY:Business After Hours at miniBAR
DESCRIPTION:Join the Cherry Creek Chamber for networking\, cocktails and appetizers at the miniBAR.
X-ALT-DESC;FMTTYPE=text/html:<div>Join the Cherry Creek Chamber for networking\,&nbsp\;cocktails and appetizers&nbsp\;at the miniBAR.</div><div>&nbsp\;</div>
LOCATION:2623 E. 2nd Ave. (N.E. Corner of 2nd and Columbine)Denver\, CO 80206
UID:e.281.436
SEQUENCE:3
DTSTAMP:20260419T174030Z
URL:http://chambermaster.cherrycreekchamber.org/events/details/business-after-hours-at-minibar-09-09-2010-436
END:VEVENT

END:VCALENDAR
