BEGIN:VCALENDAR
VERSION:2.0
PRODID:-//ChamberMaster//Event Calendar 2.0//EN
METHOD:PUBLISH
X-PUBLISHED-TTL:P3D
REFRESH-INTERVAL:P3D
CALSCALE:GREGORIAN
BEGIN:VEVENT
DTSTART:20100513T233000Z
DTEND:20100514T013000Z
X-MICROSOFT-CDO-ALLDAYEVENT:FALSE
SUMMARY:Business After Hours at The Season
DESCRIPTION:Enjoy food\, drink\, networking and apartments in \n\n	the luxurious surroundings of The Seasons.
X-ALT-DESC;FMTTYPE=text/html:<div>\n	&nbsp\;</div>\n<div align="center">\n	&nbsp\;</div>\n<div align="center">\n	<span style="font-weight: 700"><font face="Tahoma"><font size="2">Enjoy food\, drink\, networking and apartments in </font></font></span></div>\n<div align="center">\n	<span style="font-weight: 700"><font face="Tahoma"><font size="2">the luxurious surroundings of The Seasons.</font></font></span></div>
LOCATION:3498 E. Ellsworth (Ellsworth & Madison St.) Denver\, CO
UID:e.281.594
SEQUENCE:3
DTSTAMP:20260419T235639Z
URL:http://chambermaster.cherrycreekchamber.org/events/details/business-after-hours-at-the-season-05-13-2010-594
END:VEVENT

END:VCALENDAR
