BEGIN:VCALENDAR
VERSION:2.0
PRODID:-//ChamberMaster//Event Calendar 2.0//EN
METHOD:PUBLISH
X-PUBLISHED-TTL:P3D
REFRESH-INTERVAL:P3D
CALSCALE:GREGORIAN
BEGIN:VEVENT
DTSTART:20100521T233000Z
DTEND:20100522T013000Z
X-MICROSOFT-CDO-ALLDAYEVENT:FALSE
SUMMARY:Business After Hours at USTA Colorado
DESCRIPTION:Friday\, May 21 5:30pm-7:30pm\nGates Tennis Center 3300 E. Bayaud Ave.Denver\, ColoradoHelp kick off National Tennis Month\, a USTA initiative to promote the lifetime sport of tennis. Come and enjoy cocktails\, hors d'oeuvres\, live music\, tennis exhibitions and the opportunity to mingle with members of the Cherry Creek Chamber of Commerce\, board members and staff from the Hispanic\, Black\, Asian\, Rocky Mountain Indian and Woman's Chambers\, along with business\, government and community leaders.The annual Diversity in Tennis Chamber Reception is one of many activities and programs in which USTA Colorado demonstrates its commitment to diversity and inclusion to achieve its mission\, which is to promote and develop the growth of tennis in the state. USTA Colorado is committed to achieving greater diversity throughout the sport and fostering an environment that is inclusive and ensures that tennis is accessible to everyone.
X-ALT-DESC;FMTTYPE=text/html:<div>&nbsp\;<div align="center"><font size="2"><div style="margin: 0in 0in 0pt"><span style="font-size: small"><b>Friday\, May 21 </b></span></div><div style="margin: 0in 0in 0pt"><span style="font-size: small"><b>5:30pm-7:30pm<br />Gates Tennis Center </b></span></div><div style="margin: 0in 0in 0pt"><span style="font-size: small"><b>3300 E. Bayaud Ave.</b></span></div><div style="margin: 0in 0in 0pt"><span style="font-size: small"><b>Denver</b><b>\, Colorado</b></span></div><p><span style="font-size: small">Help kick off National Tennis Month\, a USTA initiative to promote the lifetime sport of tennis. Come and enjoy cocktails\, hors d'oeuvres\, live music\, tennis exhibitions and the opportunity to mingle with members of the Cherry Creek Chamber of Commerce\, board members and staff from the Hispanic\, Black\, Asian\, Rocky Mountain Indian and Woman&rsquo\;s Chambers\, along with business\, government and community leaders.</span></p><div><span style="font-size: small">The annual <i>Diversity in Tennis Chamber Reception</i> is one of many activities and programs in which USTA Colorado demonstrates its commitment to diversity and inclusion to achieve its mission\, which is to <i>promote and develop the growth</i> of tennis in the state.&nbsp\;USTA Colorado is committed to achieving greater diversity throughout the sport and fostering an environment that is inclusive and ensures that tennis is accessible to everyone.&nbsp\;&nbsp\;</span></div></font></div>&nbsp\;</div>
LOCATION:Gates Tennis Center 3300 E. Bayaud Ave. Denver\, CO 80209
UID:e.281.410
SEQUENCE:3
DTSTAMP:20260420T000704Z
URL:http://chambermaster.cherrycreekchamber.org/events/details/business-after-hours-at-usta-colorado-05-21-2010-410
END:VEVENT

END:VCALENDAR
