BEGIN:VCALENDAR
VERSION:2.0
PRODID:-//ChamberMaster//Event Calendar 2.0//EN
METHOD:PUBLISH
X-PUBLISHED-TTL:P3D
REFRESH-INTERVAL:P3D
CALSCALE:GREGORIAN
BEGIN:VEVENT
DTSTART:20101028T233000Z
DTEND:20101029T013000Z
X-MICROSOFT-CDO-ALLDAYEVENT:FALSE
SUMMARY:Business After Hours at West SouthWest
DESCRIPTION:Join the Cherry Creek Chamber for networking\, cocktails and appetizers at the West SouthWest
X-ALT-DESC;FMTTYPE=text/html:<div>\n	Join the Cherry Creek Chamber for networking\,&nbsp\;cocktails and appetizers&nbsp\;at the West SouthWest</div>
LOCATION:257 Fillmore Street Denver\, CO 80206
UID:e.281.441
SEQUENCE:3
DTSTAMP:20260419T161011Z
URL:http://chambermaster.cherrycreekchamber.org/events/details/business-after-hours-at-west-southwest-10-28-2010-441
END:VEVENT

END:VCALENDAR
