BEGIN:VCALENDAR
VERSION:2.0
PRODID:-//ChamberMaster//Event Calendar 2.0//EN
METHOD:PUBLISH
X-PUBLISHED-TTL:P3D
REFRESH-INTERVAL:P3D
CALSCALE:GREGORIAN
BEGIN:VEVENT
DTSTART:20100312T003000Z
DTEND:20100312T023000Z
X-MICROSOFT-CDO-ALLDAYEVENT:FALSE
SUMMARY:Business After Hours Steele Street Bank & Trust
DESCRIPTION:Steele Street Bank & Trust BAH
X-ALT-DESC;FMTTYPE=text/html:<div>&nbsp\;</div><div align="center">&nbsp\;</div><div align="center"><span style="font-weight: 700"><font face="Tahoma"><font size="2">Steele Street Bank &amp\;&nbsp\;Trust BAH</font></font></span></div><div align="center">&nbsp\;</div>
LOCATION:55 AdamsDenver\, CO
UID:e.281.404
SEQUENCE:3
DTSTAMP:20260420T025207Z
URL:http://chambermaster.cherrycreekchamber.org/events/details/business-after-hours-steele-street-bank-trust-03-11-2010-404
END:VEVENT

END:VCALENDAR
