BEGIN:VCALENDAR
VERSION:2.0
PRODID:-//ChamberMaster//Event Calendar 2.0//EN
METHOD:PUBLISH
X-PUBLISHED-TTL:P3D
REFRESH-INTERVAL:P3D
CALSCALE:GREGORIAN
BEGIN:VEVENT
DTSTART:20100126T150000Z
DTEND:20100126T163000Z
X-MICROSOFT-CDO-ALLDAYEVENT:FALSE
SUMMARY:Business Success Series
DESCRIPTION:How to Get More Done in Less Time... and Feel Great About ItBased on Laura's bestselling book of the same title (Broadway Books\, 2004)\, this is her flagship time management keynote on how to be more productive at work\, so you can achieve the same results in less time and leave the office earlier . Attendees leave the program laughing and saying\, "Oh my goodness\, she was looking over my shoulder! Everything she modeled I'm doing!" The ideas in this innovative and thought-provoking program will allow you to reduce the number of hours you work each week without compromising output. keep technology from controlling your timecommunicate with your team and boss to improve personal productivityplug productivity leaks in your dayeliminate annoying time wastersimprove your personal efficiency  Laura Stack\, MBA\, CSP\, is a personal productivity expert\, author\, and professional speaker who helps busy workers Leave the Office Earlier  with Maximum Results in Minimum Time . She is the president of The Productivity Pro \, Inc.\, a time management training firm specializing in productivity improvement in high-stress organizations. Laura is the bestselling author of four published books. She is also a contributor to two of the popular Chicken Soup for the Soul books. Widely regarded as one of the leading experts in the field of employee productivity and workplace issues\, she has been featured nationally on the CBS Early Show\, CNN\, NPR\, Bloomberg\, NBC TV\, the New York Times\, USA Today\, The Wall Street Journal\, the WashingtonPost.com\, O Magazine\, Entrepreneur magazine and more! She is the Vice President of the National Speakers Association (NSA) and is the recipient of the Certified Speaking Professional (CSP) designation\, NSA's highest earned designation.
X-ALT-DESC;FMTTYPE=text/html:<div><div><font size="2"><div><span style="font-size: x-small"><span><font size="4"><p style="text-align: left"><font color="#000000" size="3"><strong>How to Get More Done in Less Time... and Feel Great About It</strong></font></p><p style="text-align: left"><font color="#000000" size="2">Based on Laura&rsquo\;s bestselling book of the same title (Broadway Books\, 2004)\, this is her flagship time management keynote on how to be more productive at work\, so you can achieve the same results in less time and leave the office earlier&reg\;. Attendees leave the program laughing and saying\, &quot\;Oh my goodness\, she was looking over my shoulder! Everything she modeled I&rsquo\;m doing!&quot\; The ideas in this innovative and thought-provoking program will allow you to reduce the number of hours you work each week without compromising output. </font></p><ul><li style="text-align: left"><font color="#000000" size="2">keep technology from controlling your time</font></li><li style="text-align: left"><font color="#000000" size="2">communicate with your team and boss to improve personal productivity</font></li><li style="text-align: left"><font color="#000000" size="2">plug productivity leaks in your day</font></li><li style="text-align: left"><font color="#000000" size="2">eliminate annoying time wasters</font></li><li style="text-align: left"><font color="#000000" size="2">improve your personal efficiency </font></li></ul><p>&nbsp\;</p><p><font color="#000000" size="2">Laura Stack\, MBA\, CSP\, is a personal productivity expert\, author\, and professional speaker who helps busy workers Leave the Office Earlier&reg\; with Maximum Results in Minimum Time&reg\;. She is the president of The Productivity Pro&reg\;\, Inc.\, a time management training firm specializing in productivity improvement in high-stress organizations. Laura is the bestselling author of four published books. She is also a contributor to two of the popular Chicken Soup for the Soul books. Widely regarded as one of the leading experts in the field of employee productivity and workplace issues\, she has been featured nationally on the CBS Early Show\, CNN\, NPR\, Bloomberg\, NBC TV\, the New York Times\, USA Today\, The Wall Street Journal\, the WashingtonPost.com\, O Magazine\, Entrepreneur magazine and more! She is the Vice President of the National Speakers Association (NSA) and is the recipient of the Certified Speaking Professional (CSP) designation\, NSA&rsquo\;s highest earned designation.</font></p></font></span></span><span style="font-size: small"><font size="4"><br />&nbsp\;</font></span></div></font></div></div>
LOCATION:Daniels Fund Building101 Monroe StreetFree Parking on the west side of the building(Please don't park on the streets)
UID:e.281.392
SEQUENCE:3
DTSTAMP:20260420T060344Z
URL:http://chambermaster.cherrycreekchamber.org/events/details/business-success-series-01-26-2010-392
END:VEVENT

END:VCALENDAR
