BEGIN:VCALENDAR
VERSION:2.0
PRODID:-//ChamberMaster//Event Calendar 2.0//EN
METHOD:PUBLISH
X-PUBLISHED-TTL:P3D
REFRESH-INTERVAL:P3D
CALSCALE:GREGORIAN
BEGIN:VEVENT
DTSTART:20100223T150000Z
DTEND:20100223T163000Z
X-MICROSOFT-CDO-ALLDAYEVENT:FALSE
SUMMARY:Business Success Series
DESCRIPTION:I Hate Networking with Sarah Michel
X-ALT-DESC;FMTTYPE=text/html:<div><div><font size="2"><div><p>&nbsp\;I Hate Networking with Sarah Michel</p></div></font></div></div>
LOCATION:Daniels Fund Building101 Monroe StreetFree Parking on the west side of the building(Please don't park on the streets)
UID:e.281.397
SEQUENCE:3
DTSTAMP:20260420T043355Z
URL:http://chambermaster.cherrycreekchamber.org/events/details/business-success-series-02-23-2010-397
END:VEVENT

END:VCALENDAR
