BEGIN:VCALENDAR
VERSION:2.0
PRODID:-//ChamberMaster//Event Calendar 2.0//EN
METHOD:PUBLISH
X-PUBLISHED-TTL:P3D
REFRESH-INTERVAL:P3D
CALSCALE:GREGORIAN
BEGIN:VEVENT
DTSTART:20100323T140000Z
DTEND:20100323T153000Z
X-MICROSOFT-CDO-ALLDAYEVENT:FALSE
SUMMARY:Business Success Series
DESCRIPTION:Everest\; The Challenge In All of Us - Brian O' MalleyToday's ever-changing business environment requires people to go where they have never been before. By applying the skills of an adventurer you will gain a new perspective on your professional challenges and opportunities.Defining your EverestUnderstand the risk paradoxDiscovery the two things you must balance betweenHow to reconnect with your true selfThe three things you need to let go of\n Brian O'Malley's keynotes are a powerful blend of artistry and adventure. His multi-media presentations have entertained\, inspired and energized audiences such as\; The Washington Post\, IBM\, Kodak\, State Farm\, Nordstrom\, Merck\, National Geographic\, Wells Fargo and hundreds more around the world. Stories fueled by his career experience as an expedition leader\, Paramedic Firefighter\, SWAT Team officer and Wish Grantor\; Brian will take you on a journey that will inspire you to face your own Mt. Everest. Brian has the unique ability to connect with an audience on a very personal level and meeting planners' say\, "This is the one program you do not want to miss."
X-ALT-DESC;FMTTYPE=text/html:<div><div><font size="2"><div><p><font size="5"><strong><font color="#000000">Everest\; The Challenge In All of Us </font></strong></font><font size="4"><strong><font color="#000000">- <font size="5">Brian O' Malley</font></font></strong></font></p><p><font color="#000000">Today's ever-changing business environment requires people to go where they have never been before. By applying the skills of an adventurer you will gain a new perspective on your professional challenges and opportunities.</font></p><ul><li><font color="#000000">Defining your Everest</font></li><li><font color="#000000">Understand the risk paradox</font></li><li><font color="#000000">Discovery the two things you must balance between</font></li><li><font color="#000000">How to reconnect with your true self</font></li><li><font color="#000000">The three things you need to let go of<br /></font></li></ul><p>&nbsp\;</p><p><font color="#000000">Brian O'Malley&rsquo\;s keynotes are a powerful blend of artistry and adventure. His multi-media presentations have entertained\, inspired and energized audiences such as\; The Washington Post\, IBM\, Kodak\, State Farm\, Nordstrom\, Merck\, National Geographic\, Wells Fargo and hundreds more around the world. Stories fueled by his career experience as an expedition leader\, Paramedic Firefighter\, SWAT Team officer and Wish Grantor\; Brian will take you on a journey that will inspire you to face your own Mt. Everest. Brian has the unique ability to connect with an audience on a very personal level and meeting planners&rsquo\; say\, &ldquo\;This is the one program you do not want to miss.&rdquo\;</font></p></div></font></div></div>
LOCATION:Daniels Fund Building101 Monroe StreetFree Parking on the west side of the building(Please don't park on the streets)
UID:e.281.405
SEQUENCE:3
DTSTAMP:20260420T024840Z
URL:http://chambermaster.cherrycreekchamber.org/events/details/business-success-series-03-23-2010-405
END:VEVENT

END:VCALENDAR
