BEGIN:VCALENDAR
VERSION:2.0
PRODID:-//ChamberMaster//Event Calendar 2.0//EN
METHOD:PUBLISH
X-PUBLISHED-TTL:P3D
REFRESH-INTERVAL:P3D
CALSCALE:GREGORIAN
BEGIN:VEVENT
DTSTART:20100427T140000Z
DTEND:20100427T153000Z
X-MICROSOFT-CDO-ALLDAYEVENT:FALSE
SUMMARY:Business Success Series
DESCRIPTION:Get the Edge Over Your Competition! - David Behr\nAttend our high-energy workshop to start out-positioning & out-selling your competition! We combine education\, motivation and interaction\, to make this the most effective meeting you'll attend all year!Prospecting: Finding better-qualified prospects and the formula to knowing your "ratio"Qualifying: Value added selling Objections: Steps to overcoming the most common objection you hear Referrals: Creating customers for life David Behr's skills as a sales trainer have been built on years of hard work and first hand experience. He's not afraid to take the extra steps to make the difference and he's proved it by: Knocking on more than 100\,000 doors\, presenting to over 5\,000 audiences nationwide\, being Tom Hopkins #1 Sales Trainer six consecutive years. David practices what he preaches. He uses his skills in a fashion that enables him to help others improve their lives and careers. His entertaining and interactive speaking style have helped thousands put their greatest goals within reach and the proof is in the gratitude they've expressed in the plethora of letters we've received.He is in the words of many people   The Best.David learned early on that he had a special gift. A gift he acquired adapting to the life of an "Army Brat." \nCommunication skills were a prerequisite to blend in with the many cultures and locations he experienced. He built on that foundation with a degree in Business from Arizona State University which he quickly put to use while earning that degree by working full time for one of Arizona's leading marketing firms   prospecting over 100\,000 doors.\n\nKnowing that excitement and motivation are contagious\, David went to work for the Nation's #1 sales trainer\, Tom Hopkins and it didn't take long for him to become the best in his field. David was Tom Hopkins\n#1 sales trainer in the nation for six consecutive years.David's dynamic personality\, sales knowledge and skill development techniques have been credited for assisting in the success of companies world-wide\, including Fortune 500s. His clientele include the following companies: Wells Fargo\, American Express\, Edward Jones\, Coldwell Banker\, Century 21\, ReMax\, Farmers Insurance\, Pepsi\, Bank of America\, KB Homes\, Del Webb\, Hilton\, Sheraton and more.\n\nHe has presented to over 5000 audiences nationwide and looks forward to making your next sales meeting the most riveting one yet!
X-ALT-DESC;FMTTYPE=text/html:<div><div><font size="2"><div><p><span style="font-size: small"><font color="#000000"><strong>Get the Edge Over Your Competition! - David Behr</strong></font></span></p><p><font color="#000000" size="2"><br />Attend our high-energy workshop to start out-positioning &amp\; out-selling your competition! We combine education\, motivation and interaction\, to make this the most effective meeting you&rsquo\;ll attend all year!</font></p><ul><li><font color="#000000" size="2">Prospecting: Finding better-qualified prospects and the formula to knowing your &ldquo\;ratio&rdquo\;</font></li><li><font color="#000000" size="2">Qualifying: Value added selling </font></li><li><font color="#000000" size="2">Objections: Steps to overcoming the most common objection you hear </font></li><li><font color="#000000" size="2">Referrals: Creating customers for life </font></li></ul><p><font color="#000000" size="2">David Behr&rsquo\;s skills as a sales trainer have been built on years of hard work and first hand experience. He&rsquo\;s not afraid to take the extra steps to make the difference and he&rsquo\;s proved it by: Knocking on more than 100\,000 doors\, presenting to over 5\,000 audiences nationwide\, being Tom Hopkins #1 Sales Trainer six consecutive years.</font><font color="#000000"> </font></p><p><font color="#000000">David practices what he preaches. He uses his skills in a fashion that enables him to help others improve their lives and careers. His entertaining and interactive speaking style have helped thousands put their greatest goals within reach and the proof is in the gratitude they&rsquo\;ve expressed in the plethora of letters we&rsquo\;ve received.</font></p><p><font color="#000000">He is in the words of many people &ndash\; The Best.</font></p><p><font color="#000000">David learned early on that he had a special gift. A gift he acquired adapting to the life of an &ldquo\;Army Brat.&rdquo\; <br />Communication skills were a prerequisite to blend in with the many cultures and locations he experienced. He built on that foundation with a degree in Business from Arizona State University which he quickly put to use while earning that degree by working full time for one of Arizona&rsquo\;s leading marketing firms &ndash\; prospecting over 100\,000 doors.<br /><br />Knowing that excitement and motivation are contagious\, David went to work for the Nation&rsquo\;s #1 sales trainer\, Tom Hopkins and it didn&rsquo\;t take long for him to become the best in his field. David was Tom Hopkins<br />#1 sales trainer in the nation for six consecutive years.</font></p><p><font color="#000000">David&rsquo\;s dynamic personality\, sales knowledge and skill development techniques have been credited for assisting in the success of companies world-wide\, including Fortune 500s. His clientele include the following companies: Wells Fargo\, American Express\, Edward Jones\, Coldwell Banker\, Century 21\, ReMax\, Farmers Insurance\, Pepsi\, Bank of America\, KB Homes\, Del Webb\, Hilton\, Sheraton and more.<br /><br />He has presented to over 5000 audiences nationwide and looks forward to making your next sales meeting the most riveting one yet! </font></p></div></font></div></div>
LOCATION:Daniels Fund Building101 Monroe StreetFree Parking on the west side of the building(Please don't park on the streets)
UID:e.281.408
SEQUENCE:3
DTSTAMP:20260420T013201Z
URL:http://chambermaster.cherrycreekchamber.org/events/details/business-success-series-04-27-2010-408
END:VEVENT

END:VCALENDAR
