BEGIN:VCALENDAR
VERSION:2.0
PRODID:-//ChamberMaster//Event Calendar 2.0//EN
METHOD:PUBLISH
X-PUBLISHED-TTL:P3D
REFRESH-INTERVAL:P3D
CALSCALE:GREGORIAN
BEGIN:VEVENT
DTSTART:20120522T140000Z
DTEND:20120522T153000Z
X-MICROSOFT-CDO-ALLDAYEVENT:FALSE
SUMMARY:Business Success Series
DESCRIPTION:Common Sense by Friday\n\nThe Future of Critical Thinking in a Menu-Driven Workplace\n\nAre we losing our ability to think? In a world dominated by digital options\, it is human nature to follow the cues. We look to dictionary.com for definitions. We punch addresses into cell phones. We turn to Google for everything else. But what is this doing to our thinking? The lure of turning all decisions into menu-driven options is dulling our senses\, taking the edge off our critical thinking\, and discouraging our creativity. So how do we re-think the way the way we think? How do we get those around us to solve problems when the answer can't be found on the screen in front of them? How do we adapt when the obvious or easy answer isn't a click away?\n\n \n\nJoin author Robert Wendover for an exploration into why this is happening and what you can do to cope with its effects on your business. If you're managing people you'll walk away with practical ideas for fostering problem solving skills among those too dependent on menu-driven thinking.\n\n \n\n \n\nRobert W. Wendover\, CSP\, is Director of The Center for Generational Studies which has been assisting organizations with their workforce talent transitions for more than 20 years. For more information go to www.generationaldiversity.com.
X-ALT-DESC;FMTTYPE=text/html:<span style="font-size: 14px"><span style="font-family: arial"><strong>Common Sense by Friday</strong><br />\n<strong><em>The Future of Critical Thinking in a Menu-Driven Workplace</em></strong><br />\nAre we losing our ability to think? In a world dominated by digital options\, it is human nature to follow the cues. We look to dictionary.com for definitions. We punch addresses into cell phones. We turn to Google for everything else. But what is this doing to our thinking? The lure of turning all decisions into menu-driven options is dulling our senses\, taking the edge off our critical thinking\, and discouraging our creativity. So how do we re-think the way the way we think? How do we get those around us to solve problems when the answer can&rsquo\;t be found on the screen in front of them? How do we adapt when the obvious or easy answer isn&rsquo\;t a click away?<br />\n&nbsp\;<br />\nJoin author Robert Wendover for an exploration into why this is happening and what you can do to cope with its effects on your business. If you&rsquo\;re managing people you&rsquo\;ll walk away with practical ideas for fostering problem solving skills among those too dependent on menu-driven thinking.<br />\n&nbsp\;<br />\n&nbsp\;<br />\nRobert W. Wendover\, CSP\,&nbsp\;is Director of The Center for Generational Studies which&nbsp\;has been assisting&nbsp\;organizations with their workforce talent transitions for more than 20 years. For more information go to <a href="http://www.generationaldiversity.com/" title="http://www.generationaldiversity.com/&#13\;&#10\;http://www.gentrends.com/"><span title="http://www.generationaldiversity.com/">www.generationaldiversity.com</span></a>.&nbsp\;</span></span><br />\n&nbsp\;<br />\n
LOCATION:Daniels Fund Building 101 Monroe Street Free Parking on the west side of the building (Please don't park on the streets)
UID:e.281.646
SEQUENCE:3
DTSTAMP:20260420T100757Z
URL:http://chambermaster.cherrycreekchamber.org/events/details/business-success-series-05-22-2012-646
END:VEVENT

END:VCALENDAR
