BEGIN:VCALENDAR
VERSION:2.0
PRODID:-//ChamberMaster//Event Calendar 2.0//EN
METHOD:PUBLISH
X-PUBLISHED-TTL:P3D
REFRESH-INTERVAL:P3D
CALSCALE:GREGORIAN
BEGIN:VEVENT
DTSTART:20100525T140000Z
DTEND:20100525T153000Z
X-MICROSOFT-CDO-ALLDAYEVENT:FALSE
SUMMARY:Business Success Series
DESCRIPTION:Execution   Achieve Greater Outcomes with Your Strategies with Dr. Richard SchuttlerWriting a strategic plan is easy\; executing initiatives to achieve desired results is rarely done well with consistency. With the use of a simple tool\, you will learn to take your strategies and create step-by-step measurable results. In this interactive session\, you will leave with at least one goal or objective planned out and articulated for you to take back to work and implement.Learn how to design measurable goals and objectives Define metrics you can measure Learn how to gain buy-in from stakeholders Create initiatives with actions to achieve goals and objectives Dr. Rich Schuttler has 20-years of diversified\, domestic and international management and leadership improvement expertise within academic\, federal/state governments\, and Fortune 1\,000 environments developing strategies and implementation methods. Rich has mentored executives\, faculty\, and students from around the world in a variety of professional leadership and management settings. He is the owner of Organizational Troubleshooter\, LLC and the author of Laws of Communication: The Intersection Where Leadership Meet Employee Performance.
X-ALT-DESC;FMTTYPE=text/html:<div><div><font size="2"><div><p><font color="#000000"><strong><span style="font-size: x-small"><font color="#000000">Execution &ndash\; Achieve Greater Outcomes with Your Strategies with Dr. Richard Schuttler</font></span></strong></font></p><p><p><span style="font-size: x-small"><font color="#000000">Writing a strategic plan is easy\; executing initiatives to achieve desired results is rarely done well with consistency. With the use of a simple tool\, you will learn to take your strategies and create step-by-step measurable results. In this interactive session\, you will leave with at least one goal or objective planned out and articulated for you to take back to work and implement.</font></span></p><ul><li><span style="font-size: x-small"><font color="#000000">Learn how to design measurable goals and objectives</font> </span></li><li><span style="font-size: x-small"><font color="#000000">Define metrics you can measure</font> </span></li><li><span style="font-size: x-small"><font color="#000000">Learn how to gain buy-in from stakeholders</font> </span></li><li><span style="font-size: x-small"><font color="#000000">Create initiatives with actions to achieve goals and objectives</font> </span></li></ul><p><span style="font-size: x-small"><font color="#000000">Dr. Rich Schuttler has 20-years of diversified\, domestic and international management and leadership improvement expertise within academic\, federal/state governments\, and Fortune 1\,000 environments developing strategies and implementation methods. Rich has mentored executives\, faculty\, and students from around the world in a variety of professional leadership and management settings. He is the owner of Organizational Troubleshooter\, LLC and the author of Laws of Communication: The Intersection Where Leadership Meet Employee Performance. </font></span></p><p>&nbsp\;</p><p>&nbsp\;</p><p>&nbsp\;</p></p></div></font></div></div>
LOCATION:Young Americans Center For Financial Education 3550 East First Avenue Denver\, CO 80206
UID:e.281.412
SEQUENCE:3
DTSTAMP:20260420T001429Z
URL:http://chambermaster.cherrycreekchamber.org/events/details/business-success-series-05-25-2010-412
END:VEVENT

END:VCALENDAR
