BEGIN:VCALENDAR
VERSION:2.0
PRODID:-//ChamberMaster//Event Calendar 2.0//EN
METHOD:PUBLISH
X-PUBLISHED-TTL:P3D
REFRESH-INTERVAL:P3D
CALSCALE:GREGORIAN
BEGIN:VEVENT
DTSTART:20100622T140000Z
DTEND:20100622T153000Z
X-MICROSOFT-CDO-ALLDAYEVENT:FALSE
SUMMARY:Business Success Series
DESCRIPTION:Think Like a Millionaire:How to Create a Millionaire Mentality  One Profitable Thought at a Time.This dynamic and entertaining presentation is based on the profound lessons Weldon Long learned on his journey from poverty and homelessness to building an INC. 5000 Company with over $20\,000\,000 in sales in just 60 months. Discover How To:  Get FOCUSED on what you really want in life and identify hidden limiting beliefs that are holding you back\;  Get EMOTIONALLY COMMITTED to your business\, financial and professional objectives\;  Take consistent ACTION towards those objectives\;  Take RESPONSIBILITY for responses to economic and business challenges and choose responses that will have profitable results.
X-ALT-DESC;FMTTYPE=text/html:<div><div><font size="2"><div><p><span style="font-family: Tahoma"><span style="font-size: x-small"><strong>Think Like a Millionaire:</strong></span></span></p><p><span style="font-family: Tahoma"><span style="font-size: x-small"><strong>How to Create a Millionaire Mentality&hellip\; One Profitable Thought at a Time.</strong></span></span></p><p><span style="font-family: Tahoma"><span style="font-size: x-small">This dynamic and entertaining presentation is based on the profound lessons Weldon Long learned on his journey from poverty and homelessness to building an INC. 5000 Company with over $20\,000\,000 in sales in just 60 months.&nbsp\;</span></span></p><p><span style="font-family: Tahoma"><span style="font-size: x-small">Discover How To:</span></span></p><p><span style="font-family: Tahoma"><span style="font-size: x-small">&bull\; Get FOCUSED on what you really want in life and identify hidden limiting beliefs that are holding you back\;</span></span></p><p><span style="font-family: Tahoma"><span style="font-size: x-small">&bull\; Get EMOTIONALLY COMMITTED to your business\, financial and professional objectives\;</span></span></p><p><span style="font-family: Tahoma"><span style="font-size: x-small">&bull\; Take consistent ACTION towards those objectives\;</span></span></p><p><span style="font-family: Tahoma"><span style="font-size: x-small">&bull\; Take RESPONSIBILITY for responses to economic and business challenges and choose responses that will have profitable results.</span></span></p><p>&nbsp\;</p></div></font></div></div>
LOCATION:Daniels Fund Building101 Monroe StreetFree Parking on the west side of the building(Please don't park on the streets)
UID:e.281.420
SEQUENCE:3
DTSTAMP:20260419T224036Z
URL:http://chambermaster.cherrycreekchamber.org/events/details/business-success-series-06-22-2010-420
END:VEVENT

END:VCALENDAR
