BEGIN:VCALENDAR
VERSION:2.0
PRODID:-//ChamberMaster//Event Calendar 2.0//EN
METHOD:PUBLISH
X-PUBLISHED-TTL:P3D
REFRESH-INTERVAL:P3D
CALSCALE:GREGORIAN
BEGIN:VEVENT
DTSTART:20090728T134500Z
DTEND:20090728T151500Z
X-MICROSOFT-CDO-ALLDAYEVENT:FALSE
SUMMARY:Business Success Series
DESCRIPTION:The Chief Engagement Officer - Leadership Thru' LaughterWhen the CEO Laughs\, Employees get Engaged with Scott Friedman
X-ALT-DESC;FMTTYPE=text/html:<div><div><font size="2"><div><div id="pastedDivNode" name="pastedNode"><div><font face="Tahoma\,Arial\,sans-serif"><strong>The <font color="#ff0000">C</font>hief <font color="#ff0000">E</font>ngagement <font color="#ff0000">O</font>fficer -</strong> <font color="#ff0000">Leadership Thru&rsquo\; Laughter</font></font></div><div><font face="Tahoma\,Arial\,sans-serif"><em>When the CEO Laughs\, Employees get Engaged with Scott Friedman</em></font></div></div></div></font></div></div>
LOCATION:Daniels Fund Building101 Monroe StreetFree Parking on the west side of the building(Please don't park on the streets)
UID:e.281.367
SEQUENCE:3
DTSTAMP:20260420T144605Z
URL:http://chambermaster.cherrycreekchamber.org/events/details/business-success-series-07-28-2009-367
END:VEVENT

END:VCALENDAR
