BEGIN:VCALENDAR
VERSION:2.0
PRODID:-//ChamberMaster//Event Calendar 2.0//EN
METHOD:PUBLISH
X-PUBLISHED-TTL:P3D
REFRESH-INTERVAL:P3D
CALSCALE:GREGORIAN
BEGIN:VEVENT
DTSTART:20100824T140000Z
DTEND:20100824T153000Z
X-MICROSOFT-CDO-ALLDAYEVENT:FALSE
SUMMARY:Business Success Series
DESCRIPTION:7 Star Customer Service:  Starting at the top to impact the bottom line - Ruby Newell-Legner\, CSP    In this session Ruby will share 7 elements to solidify the approach that "The Customer Comes First" and will help you create a seamless customer experience.  This program includes insight from Ruby's work with Jumeirah Group\, owner fo the Burj Al Arab\, frequently referred to as the only 7 Star hotel in the world\, located in Dubai\, United Emirates.
X-ALT-DESC;FMTTYPE=text/html:<div><div><font size="2"><div><div dir="ltr"><font face="Verdana\, Geneva\, Arial\, Helvetica\, sans-serif" style="font-size: 14pt"><strong><div id="pastedDivNode" name="pastedNode" style="display: inline"><div dir="ltr" style="text-align: left"><span style="font-family: Tahoma"><font style="font-size: 14pt"><strong>7 Star Customer Service:&nbsp\; Starting at the top to impact the bottom line - Ruby Newell-Legner\, CSP</strong></font></span></div><div dir="ltr" style="text-align: left"><span style="font-family: Tahoma">&nbsp\;</span></div><div style="text-align: left">&nbsp\;</div><div style="text-align: left">&nbsp\;</div><div style="text-align: left">&nbsp\;</div><span style="font-family: Tahoma"><font style="font-size: 12pt"><div><span style="font-size: xx-small"><font style="font-size: 10pt">In this session Ruby will share 7 elements to solidify the approach that &quot\;The Customer Comes First&quot\; and will help you create a seamless customer experience.&nbsp\; This program includes insight from Ruby&rsquo\;s work with Jumeirah Group\, owner fo the Burj Al Arab\, frequently referred to as the only 7 Star hotel in the world\, located in Dubai\,&nbsp\;United Emirates.</font></span></div></font></span><div style="text-align: left">&nbsp\;</div><font style="font-size: 12pt"><div><span style="font-size: x-small"><br /><br /></span></div><div dir="ltr">&nbsp\;</div><div dir="ltr">&nbsp\;</div></font></div></strong></font></div></div></font></div></div>
LOCATION:Daniels Fund Building101 Monroe StreetFree Parking on the west side of the building(Please don't park on the streets)
UID:e.281.432
SEQUENCE:3
DTSTAMP:20260419T191605Z
URL:http://chambermaster.cherrycreekchamber.org/events/details/business-success-series-08-24-2010-432
END:VEVENT

END:VCALENDAR
