BEGIN:VCALENDAR
VERSION:2.0
PRODID:-//ChamberMaster//Event Calendar 2.0//EN
METHOD:PUBLISH
X-PUBLISHED-TTL:P3D
REFRESH-INTERVAL:P3D
CALSCALE:GREGORIAN
BEGIN:VEVENT
DTSTART:20090825T134500Z
DTEND:20090825T151500Z
X-MICROSOFT-CDO-ALLDAYEVENT:FALSE
SUMMARY:Business Success Series
DESCRIPTION:
X-ALT-DESC;FMTTYPE=text/html:<div><div><font size="2"><div><p>&nbsp\;</p></div></font></div></div>
LOCATION:Daniels Fund Building101 Monroe StreetFree Parking on the west side of the building(Please don't park on the streets)
UID:e.281.368
SEQUENCE:3
DTSTAMP:20260420T133143Z
URL:http://chambermaster.cherrycreekchamber.org/events/details/business-success-series-08-25-2009-368
END:VEVENT

END:VCALENDAR
