BEGIN:VCALENDAR
VERSION:2.0
PRODID:-//ChamberMaster//Event Calendar 2.0//EN
METHOD:PUBLISH
X-PUBLISHED-TTL:P3D
REFRESH-INTERVAL:P3D
CALSCALE:GREGORIAN
BEGIN:VEVENT
DTSTART:20101026T140000Z
DTEND:20101026T153000Z
X-MICROSOFT-CDO-ALLDAYEVENT:FALSE
SUMMARY:Business Success Series
DESCRIPTION:I'm On LinkedIn...Now What?: Actionable Business Strategies to GET FOUND & GET BUSINESS in LinkedIn. \n						\n							So you have your LinkedIn account is setup!...Now what? What do you really need to do from a day to day basis to start making real connections and closing business on LinkedIn. \n						\n							We are going to dissect a LinkedIn profile and explore what makes a LinkedIn profile "findable" and talk about how LinkedIn is a search engine in it's own right. Bring a printed copy of your linked in profile so you can take notes and make changes as soon as you return to the office. You will leave with a "findable" LinkedIn profile and the essential components of prospecting and closing business on LinkedIn. Don't miss this hands-on event! \n						\n							 \n						\n							You will learn: \n						\n							  How to Optimize Element of Your Profile for Findability\n						\n							  How to leverage Recommendations to close business \n						\n							  How to utilize LinkedIn Groups to build a fan base\n						\n							  How to utilize Plugins for greater leverage of your other social media portals and more! \n						\n							\n\n							Heather is a nationally recognized Internet marketing speaker\, trainer\, and consultant in search engine marketing including SEO\, Paid Search and Social Media Marketing Findability. Heather Lutze's speaking engagements are conducted in the same irreverent style of her book The Findability Formula: The Easy\, Non-Technical Approach to Search Engine Marketing published by John Wiley & Sons -- delivering equal parts good information and good entertainment to audiences nationwide.
X-ALT-DESC;FMTTYPE=text/html:<div>\n	<div>\n		<div>\n			<div dir="ltr">\n				<div id="pastedDivNode" name="pastedNode" style="display: inline">\n					<div dir="ltr" style="text-align: left">\n						<div>\n							<font size="2"><font face="Verdana\, Geneva\, Arial\, Helvetica\, sans-serif" style="font-size: 14pt"><strong><span style="font-family: tahoma"><font style="font-size: 12pt">&nbsp\;</font></span></strong></font></font></div>\n					</div>\n					<div>\n						<p>\n							<strong>I&#39\;m On LinkedIn...Now What?: Actionable Business Strategies to GET FOUND &amp\; GET BUSINESS in LinkedIn. </strong></p>\n						<p>\n							<strong>So you have your LinkedIn account is setup!...Now what? What do you really need to do from a day to day basis to start making real connections and closing business on LinkedIn. </strong></p>\n						<p>\n							<strong>We are going to dissect a LinkedIn profile and explore what makes a LinkedIn profile &quot\;findable&quot\; and talk about how LinkedIn is a search engine in it&#39\;s own right. Bring a printed copy of your linked in profile so you can take notes and make changes as soon as you return to the office. You will leave with a &quot\;findable&quot\; LinkedIn profile and the essential components of prospecting and closing business on LinkedIn. Don&#39\;t miss this hands-on event! </strong></p>\n						<p>\n							&nbsp\;</p>\n						<p>\n							<strong>You will learn: </strong></p>\n						<p>\n							<strong>&middot\; How to Optimize Element of Your Profile for Findability</strong></p>\n						<p>\n							<strong>&middot\; How to leverage Recommendations to close business </strong></p>\n						<p>\n							<strong>&middot\; How to utilize LinkedIn Groups to build a fan base</strong></p>\n						<p>\n							<strong>&middot\; How to utilize Plugins for greater leverage of your other social media portals and more! </strong></p>\n						<p>\n							<br />\n							<strong>Heather is a nationally recognized Internet marketing speaker\, trainer\, and consultant in search engine marketing including SEO\, Paid Search and Social Media Marketing Findability. Heather Lutze&rsquo\;s speaking engagements are conducted in the same irreverent style of her book The Findability Formula: The Easy\, Non-Technical Approach to Search Engine Marketing published by John Wiley &amp\; Sons -- delivering equal parts good information and good entertainment to audiences nationwide. <span _fck_bookmark="1" style="display: none">&nbsp\;</span></strong></p>\n						<p>\n							&nbsp\;</p>\n						<p>\n							<font size="2"><font face="Verdana\, Geneva\, Arial\, Helvetica\, sans-serif" style="font-size: 14pt"><strong><span style="font-size: x-small">&nbsp\;</span></strong></font></font></p>\n					</div>\n					<p>\n						&nbsp\;</p>\n					<p>\n						<font size="2"><font face="Verdana\, Geneva\, Arial\, Helvetica\, sans-serif" style="font-size: 14pt"><strong>&nbsp\;</strong></font></font></p>\n					<p>\n						<font size="2"><font face="Verdana\, Geneva\, Arial\, Helvetica\, sans-serif" style="font-size: 14pt"><strong>&nbsp\;</strong></font></font></p>\n				</div>\n			</div>\n		</div>\n	</div>\n</div>\n
LOCATION:Daniels Fund Building101 Monroe StreetFree Parking on the west side of the building(Please don't park on the streets)
UID:e.281.440
SEQUENCE:3
DTSTAMP:20260419T160859Z
URL:http://chambermaster.cherrycreekchamber.org/events/details/business-success-series-10-26-2010-440
END:VEVENT

END:VCALENDAR
