BEGIN:VCALENDAR
VERSION:2.0
PRODID:-//ChamberMaster//Event Calendar 2.0//EN
METHOD:PUBLISH
X-PUBLISHED-TTL:P3D
REFRESH-INTERVAL:P3D
CALSCALE:GREGORIAN
BEGIN:VEVENT
DTSTART:20091027T134500Z
DTEND:20091027T151500Z
X-MICROSOFT-CDO-ALLDAYEVENT:FALSE
SUMMARY:Business Success Series
DESCRIPTION:Live and Learn or Die Stupid! This session examines the psychology related to achieving breakthrough performance and the necessary personal attributes to sustain this level without burnout. Come Laugh and Learn with Dave Mitchell and explore the following critical issues related to brain functionality\, personal perspective and an orientation to success and resiliency.
X-ALT-DESC;FMTTYPE=text/html:<div><div><font size="2"><div><p><span style="font-size: small"><strong>&nbsp\;Live and Learn or Die Stupid! </strong></span></p><p>This session examines the psychology related to achieving breakthrough performance and the necessary personal attributes to sustain this level without burnout. Come Laugh and Learn with Dave Mitchell and explore the following critical issues related to brain functionality\, personal perspective and an orientation to success and resiliency.</p></div></font></div></div>
LOCATION:Daniels Fund Building101 Monroe StreetFree Parking on the west side of the building(Please don't park on the streets)
UID:e.281.383
SEQUENCE:3
DTSTAMP:20260420T103211Z
URL:http://chambermaster.cherrycreekchamber.org/events/details/business-success-series-10-27-2009-383
END:VEVENT

END:VCALENDAR
