BEGIN:VCALENDAR
VERSION:2.0
PRODID:-//ChamberMaster//Event Calendar 2.0//EN
METHOD:PUBLISH
X-PUBLISHED-TTL:P3D
REFRESH-INTERVAL:P3D
CALSCALE:GREGORIAN
BEGIN:VEVENT
DTSTART:20101116T150000Z
DTEND:20101116T163000Z
X-MICROSOFT-CDO-ALLDAYEVENT:FALSE
SUMMARY:Business Success Series
DESCRIPTION:Facing Today's "Bear" of an Economy!           \n				\n					                                                                                                             Tips for Traveling Bravely Through "Bear Country"\n\n					 \n				\n					with Maria Arapak\n\n					\n						As an author\, clinical/educational psychologist\, keynote speaker\, business consultant\, and facilitator\, Maria has over 30 years of experience working with individuals seeking to better themselves and take greater charge of their future. \n					\n						She has presented thousands of programs around the world on self management\, leadership\, personal and professional power\, life balance\, stress reduction\, and effective communication. Maria has worked with groups ranging in size from 10 to 10\,000 and has spoken to over half a million professionals worldwide. \n					\n						You will leave Maria's provocative and entertaining program fortified with:\n\n						\n\n						 \n					\n						  a better awareness and understanding of the surprising crippling   and at times even paralyzing   effect fear can have on us everyday of our lives\n					\n						  a simple\, 100% reliable "exit ramp" for freeing yourself from fears and worries and stepping into a life of greater courage\, purpose\, and enjoyment\n					\n						  the wherewithal to tackle common everyday obstacles to both professional success and personal happiness\n					\n						  a healthier perspective on what can seem like overpowering odds\n					\n						  increased peace of mind in the midst of today's tough economic times\n					\n						\n\n						\n\n						 \n					\n						As an author\, clinical/educational psychologist\, keynote speaker\, business consultant\, and facilitator\, Maria has over 30 years of experience working with individuals seeking to better themselves and take greater charge of their future.\n					\n						 \n					\n						She has presented thousands of programs around the world on self management\, leadership\, personal and professional power\, life balance\, stress reduction\, and effective communication. Maria has worked with groups ranging in size from 10 to 10\,000 and has spoken to over half a million professionals worldwide.\n					\n						 \n					\n						You will leave Maria's provocative and entertaining program fortified with:\n					\n						  \n					\n						As an author\, clinical/educational psychologist\, keynote speaker\, business consultant\, and facilitator\, Maria has over 30 years of experience working with individuals seeking to better themselves and take greater charge of their future.\n					\n						 \n					\n						She has presented thousands of programs around the world on self management\, leadership\, personal and professional power\, life balance\, stress reduction\, and effective communication. Maria has worked with groups ranging in size from 10 to 10\,000 and has spoken to over half a million professionals worldwide.\n					\n						 \n					\n						You will leave Maria's provocative and entertaining program fortified with:
X-ALT-DESC;FMTTYPE=text/html:<div>\n	<div>\n		<div>\n			<div dir="ltr">\n				<p>\n					&nbsp\;</p>\n				<div id="pastedDivNode" name="pastedNode" style="display: inline">\n					<span style="color: #000000"><strong><em><span style="font-size: 14px">Facing Today&rsquo\;s &ldquo\;Bear&rdquo\; of an&nbsp\;Economy!&nbsp\;&nbsp\;&nbsp\;&nbsp\;&nbsp\;&nbsp\;&nbsp\;&nbsp\;&nbsp\;&nbsp\;&nbsp\;</span></em></strong></span></div>\n				<div name="pastedNode" style="display: inline">\n					<span style="color: #000000"><strong><em><span style="font-size: 14px">&nbsp\;&nbsp\;&nbsp\;&nbsp\;&nbsp\;&nbsp\;&nbsp\;&nbsp\;&nbsp\;&nbsp\;&nbsp\;&nbsp\;&nbsp\;&nbsp\;&nbsp\;&nbsp\;&nbsp\;&nbsp\;&nbsp\;&nbsp\;&nbsp\;&nbsp\;&nbsp\;&nbsp\;&nbsp\;&nbsp\;&nbsp\;&nbsp\;&nbsp\;&nbsp\;&nbsp\;&nbsp\;&nbsp\;&nbsp\;&nbsp\;&nbsp\;&nbsp\;&nbsp\;&nbsp\;&nbsp\;&nbsp\;&nbsp\;&nbsp\;&nbsp\;&nbsp\;&nbsp\;&nbsp\;&nbsp\;&nbsp\;&nbsp\;&nbsp\;&nbsp\;&nbsp\;&nbsp\;&nbsp\;&nbsp\;&nbsp\;&nbsp\;&nbsp\;&nbsp\;&nbsp\;&nbsp\;&nbsp\;&nbsp\;&nbsp\;&nbsp\;&nbsp\;&nbsp\;&nbsp\;&nbsp\;&nbsp\;&nbsp\;&nbsp\;&nbsp\;&nbsp\;&nbsp\;&nbsp\;&nbsp\;&nbsp\;&nbsp\;&nbsp\;&nbsp\;&nbsp\;&nbsp\;&nbsp\;&nbsp\;&nbsp\;&nbsp\;&nbsp\;&nbsp\;&nbsp\;&nbsp\;&nbsp\;&nbsp\;&nbsp\;&nbsp\;&nbsp\;&nbsp\;&nbsp\;&nbsp\;&nbsp\;&nbsp\;&nbsp\;&nbsp\;&nbsp\;&nbsp\;&nbsp\;&nbsp\; Tips for Traveling Bravely Through &ldquo\;Bear Country&rdquo\;</span></em></strong></span><br />\n					&nbsp\;</div>\n				<div name="pastedNode" style="display: inline">\n					<span style="color: #000000"><strong><em>with Maria Arapak</em></strong></span><br />\n					<p>\n						<span style="color: #000000"><strong><em>As an author\, clinical/educational psychologist\, keynote speaker\, business consultant\, and facilitator\, Maria has over 30 years of experience working with individuals seeking to better themselves and take greater charge of their future.&nbsp\;</em></strong></span></p>\n					<p>\n						<span style="color: #000000"><strong><em>She has presented thousands of programs around the world on self management\, leadership\, personal and professional power\, life balance\, stress reduction\, and effective communication. Maria has worked with groups ranging in size from 10 to 10\,000 and has spoken to over half a million professionals worldwide.&nbsp\;</em></strong></span></p>\n					<p>\n						<span style="color: #000000"><strong><em>You will leave Maria&rsquo\;s provocative and entertaining program fortified with:</em></strong></span><br />\n						<br />\n						&nbsp\;</p>\n					<p style="margin-left: 40px">\n						<span style="color: #000000"><strong><em>&middot\; a better awareness and understanding of the surprising crippling &hellip\; and at times even paralyzing &hellip\; effect fear can have on us everyday of our lives</em></strong></span></p>\n					<p style="margin-left: 40px">\n						<span style="color: #000000"><strong><em>&middot\; a simple\, 100% reliable &ldquo\;exit ramp&rdquo\; for freeing yourself from fears and worries and stepping into a life of greater courage\, purpose\, and enjoyment</em></strong></span></p>\n					<p style="margin-left: 40px">\n						<span style="color: #000000"><strong><em>&middot\; the wherewithal to tackle common everyday obstacles to both professional success and personal happiness</em></strong></span></p>\n					<p style="margin-left: 40px">\n						<span style="color: #000000"><strong><em>&middot\; a healthier perspective on what can seem like overpowering odds</em></strong></span></p>\n					<p style="margin-left: 40px">\n						<span style="color: #000000"><strong><em>&middot\; increased peace of mind in the midst of today&rsquo\;s tough economic times</em></strong></span></p>\n					<p style="margin-left: 40px">\n						<br />\n						<br />\n						&nbsp\;</p>\n					<p style="margin-left: 40px">\n						<span _fck_bookmark="1" style="display: none">As an author\, clinical/educational psychologist\, keynote speaker\, business consultant\, and facilitator\, Maria has over 30 years of experience working with individuals seeking to better themselves and take greater charge of their future.</span></p>\n					<p style="margin-left: 40px">\n						<span _fck_bookmark="1" style="display: none">&nbsp\;</span></p>\n					<p style="margin-left: 40px">\n						<span _fck_bookmark="1" style="display: none">She has presented thousands of programs around the world on self management\, leadership\, personal and professional power\, life balance\, stress reduction\, and effective communication. Maria has worked with groups ranging in size from 10 to 10\,000 and has spoken to over half a million professionals worldwide.</span></p>\n					<p style="margin-left: 40px">\n						<span _fck_bookmark="1" style="display: none">&nbsp\;</span></p>\n					<p style="margin-left: 40px">\n						<span _fck_bookmark="1" style="display: none">You will leave Maria&rsquo\;s provocative and entertaining program fortified with:</span></p>\n					<p style="margin-left: 40px">\n						<span _fck_bookmark="1" style="display: none">&nbsp\; </span></p>\n					<p style="margin-left: 40px">\n						<span _fck_bookmark="1" style="display: none">As an author\, clinical/educational psychologist\, keynote speaker\, business consultant\, and facilitator\, Maria has over 30 years of experience working with individuals seeking to better themselves and take greater charge of their future.</span></p>\n					<p style="margin-left: 40px">\n						<span _fck_bookmark="1" style="display: none">&nbsp\;</span></p>\n					<p style="margin-left: 40px">\n						<span _fck_bookmark="1" style="display: none">She has presented thousands of programs around the world on self management\, leadership\, personal and professional power\, life balance\, stress reduction\, and effective communication. Maria has worked with groups ranging in size from 10 to 10\,000 and has spoken to over half a million professionals worldwide.</span></p>\n					<p style="margin-left: 40px">\n						<span _fck_bookmark="1" style="display: none">&nbsp\;</span></p>\n					<p style="margin-left: 40px">\n						<span _fck_bookmark="1" style="display: none">You will leave Maria&rsquo\;s provocative and entertaining program fortified with:</span></p>\n				</div>\n			</div>\n		</div>\n	</div>\n</div>\n
LOCATION:Daniels Fund Building101 Monroe StreetFree Parking on the west side of the building(Please don't park on the streets)
UID:e.281.443
SEQUENCE:3
DTSTAMP:20260419T143315Z
URL:http://chambermaster.cherrycreekchamber.org/events/details/business-success-series-11-16-2010-443
END:VEVENT

END:VCALENDAR
