BEGIN:VCALENDAR
VERSION:2.0
PRODID:-//ChamberMaster//Event Calendar 2.0//EN
METHOD:PUBLISH
X-PUBLISHED-TTL:P3D
REFRESH-INTERVAL:P3D
CALSCALE:GREGORIAN
BEGIN:VEVENT
DTSTART:20091117T150000Z
DTEND:20091117T163000Z
X-MICROSOFT-CDO-ALLDAYEVENT:FALSE
SUMMARY:Business Success Series
DESCRIPTION:Manage Your Brand and Build Your Business!\nHow technology has changed the way we MUST Market Blogs\, Facebook\, Linked In Groups\, Twitter\, and moreMarketing used to be the skill we used to build our businesses\, but today it is conversing. Your customers and potential customers no longer want your "stuff" pushed at them in the form of brochures\, flyers\, postcards or e-zines! They want to engage in conversations through blogs and Twitter!If you are feeling overwhelmed by the flood of new technology on the scene today\, and wonder which ones makes sense to keep your business sailing\, this program is for you. If you are hiding from it all hoping the rotary dial phones and fax machines will make a comeback check out the program entitled: "Titanic: Lessons from the Deep!" Come\, buckle your seatbelt and get ready for the accelerated course in today's technologies to build your business and manage your brand.Gina Schreck\, President and Co-Founder of Synapse3Di\, calls herself the Digital Immigration Officer. She helps digital immigrants everywhere immigrate into this foreign and sometimes scary world of technology. She is the host of the popular web-TV show\, Getting' Geeky\, where she helps people learn to use technology in byte-sized pieces with humor and practical examples. She is the past-president for the National Speaker's Association here in Colorado and brought many of the speaker's into this digital landscape\, even helping them create Avatars of themselves to speak to audiences around the globe without ever leaving home! Synapse3Di connects experts to organizations through mixed-media and new technology. www.Synapse3Di.com
X-ALT-DESC;FMTTYPE=text/html:<div><div><font size="2"><div><p><span style="font-size: small"><font size="4">Manage Your Brand and Build Your Business!</font><font color="#000000"><br /><font size="3"><strong>How technology has changed the way we MUST Market </strong></font></font></span></p><p><font color="#990000"><strong>Blogs<font size="3">\,</font><font size="3"> </font><font size="3"><font face="Times New Roman\, Times\, serif">Facebook</font>\,</font> <font face="Geneva\, Arial\, Helvetica\, sans-serif" size="2">Linked In Groups</font><font face="Verdana\, Arial\, Helvetica\, sans-serif">\, <font size="3">Twitter</font></font>\, <em>and more</em></strong></font></p><p><span style="font-size: xx-small"><span style=""><font color="#000000">Marketing used to be the skill we used to build our businesses\, but today it is conversing. Your customers and potential customers no longer want your &ldquo\;stuff&rdquo\; pushed at them in the form of brochures\, flyers\, postcards or e-zines! They want to engage in conversations through blogs and Twitter!</font></span></span></p><p><span style="font-size: xx-small"><span style=""><font color="#000000">If you are feeling overwhelmed by the flood of new technology on the scene today\, and wonder which ones makes sense to keep your business sailing\, this program is for you. If you are hiding from it all hoping the rotary dial phones and fax machines will make a comeback check out the program entitled: &ldquo\;Titanic: Lessons from the Deep!&rdquo\; Come\, buckle your seatbelt and get ready for the accelerated course in today&rsquo\;s technologies to build your business and manage your brand.</font></span></span></p><p><span style="font-size: xx-small"><font color="#000000">Gina Schreck\, President and Co-Founder of Synapse3Di\, calls herself the Digital Immigration Officer. She helps digital immigrants everywhere immigrate into this foreign and sometimes scary world of technology. She is the host of the popular web-TV show\, Getting&rsquo\; Geeky\, where she helps people learn to use technology in byte-sized pieces with humor and practical examples. She is the past-president for the National Speaker&rsquo\;s Association here in Colorado and brought many of the speaker&rsquo\;s into this digital landscape\, even helping them create Avatars of themselves to speak to audiences around the globe without ever leaving home! Synapse3Di connects experts to organizations through mixed-media and new technology. </font></span><span style="font-size: x-small"><font color="#000000"><a href="http://www.synapse3di.com/"><span style="font-size: xx-small"><font color="#0000ff">www.Synapse3Di.com</font></span></a></font><span style="font-size: xx-small"><font color="#000000"> </font></span></span></p></div></font></div></div>
LOCATION:Daniels Fund Building101 Monroe StreetFree Parking on the west side of the building(Please don't park on the streets)
UID:e.281.385
SEQUENCE:3
DTSTAMP:20260420T090125Z
URL:http://chambermaster.cherrycreekchamber.org/events/details/business-success-series-11-17-2009-385
END:VEVENT

END:VCALENDAR
