BEGIN:VCALENDAR
VERSION:2.0
PRODID:-//ChamberMaster//Event Calendar 2.0//EN
METHOD:PUBLISH
X-PUBLISHED-TTL:P3D
REFRESH-INTERVAL:P3D
CALSCALE:GREGORIAN
BEGIN:VEVENT
DTSTART:20101214T150000Z
DTEND:20101214T163000Z
X-MICROSOFT-CDO-ALLDAYEVENT:FALSE
SUMMARY:Business Success Series
DESCRIPTION:Two Secrets and Five Attributes of the Ultra Successful\n				\n					\n\n					 \n				\n					\n\n					You will leave with:\n\n					\n						\n							\n								\n									 Top 5 secret strategies of top performers in sales and in life\n							\n							\n								\n									Clarity on the "drivers" used to motivate and filter every decision\n							\n							\n								\n									Understanding of the top 5 Emotional Intelligence attributes that contribute to overall success\n							\n							\n								\n									Permission to re-decide how you do business today and an easy to implement structure to eliminate what no longer works\n							\n						\n					\n					\n						\n							\n								   Merit Gest\, who approaches the issue of business growth through the perspective of engaging proactive leadership to create momentum and limitless possibilities\, provides participants with specific techniques for being proactive in their business. Whereas other programs on sales merely teach what to say and when to say it Gest enables participants to look into a crystal ball to see clearly why people get stuck in staying the course and no longer push beyond current limitations to create new possibilities in a proactive manner.  She has spoken to\, trained and consulted over 500 companies across the country.      \n						\n					\n					\n						     \n\n						\n\n						 \n					\n						As an author\, clinical/educational psychologist\, keynote speaker\, business consultant\, and facilitator\, Maria has over 30 years of experience working with individuals seeking to better themselves and take greater charge of their future.\n					\n						 \n					\n						She has presented thousands of programs around the world on self management\, leadership\, personal and professional power\, life balance\, stress reduction\, and effective communication. Maria has worked with groups ranging in size from 10 to 10\,000 and has spoken to over half a million professionals worldwide.\n					\n						 \n					\n						 You will leave Maria's provocative and entertaining program fortified with:\n					 \n					\n						  \n					\n						As an author\, clinical/educational psychologist\, keynote speaker\, business consultant\, and facilitator\, Maria has over 30 years of experience working with individuals seeking to better themselves and take greater charge of their future.\n					\n						 \n					\n						She has presented thousands of programs around the world on self management\, leadership\, personal and professional power\, life balance\, stress reduction\, and effective communication. Maria has worked with groups ranging in size from 10 to 10\,000 and has spoken to over half a million professionals worldwide.\n					\n						 \n					\n						You will leave Maria's provocative and entertaining program fortified with:
X-ALT-DESC;FMTTYPE=text/html:<div>\n	<div>\n		<div>\n			<div dir="ltr">\n				<p>\n					&nbsp\;</p>\n				<div name="pastedNode" style="display: inline">\n					<span style="font-family: 'helvetica'\, 'sans-serif'\; font-size: 12pt"><i><span style="font-size: 14pt"><strong><span _fck_bookmark="1" style="display: none">&nbsp\;</span></strong></span></i></span><span style="font-family: 'helvetica'\, 'sans-serif'\; font-size: 12pt"><i><span style="font-size: 14pt"><strong>Two Secrets and Five Attributes of the Ultra Successful</strong></span></i></span></div>\n				<p name="pastedNode" style="display: inline">\n					<br />\n					&nbsp\;</p>\n				<div name="pastedNode" style="display: inline">\n					<br />\n					You will leave with:<br />\n					<div align="left" dir="ltr">\n						<ul type="disc">\n							<li style="font-family: 'arial'\, 'sans-serif'\; font-size: 11pt">\n								<p>\n									<span style="font-size: 10px"><span style="font-family: 'helvetica'\, 'sans-serif'"><strong><span _fck_bookmark="1" style="display: none">&nbsp\;</span>Top 5 secret strategies of top performers in sales and in life</strong></span></span></p>\n							</li>\n							<li style="font-family: 'arial'\, 'sans-serif'\; font-size: 11pt">\n								<p>\n									<span style="font-size: 10px"><span style="font-family: 'helvetica'\, 'sans-serif'"><strong>Clarity on the&nbsp\;&quot\;drivers&quot\; used to motivate and filter every decision</strong></span></span></p>\n							</li>\n							<li style="font-family: 'arial'\, 'sans-serif'\; font-size: 11pt">\n								<p>\n									<span style="font-size: 10px"><span style="font-family: 'helvetica'\, 'sans-serif'"><strong>Understanding of the top 5 Emotional Intelligence&nbsp\;attributes that contribute to overall success</strong></span></span></p>\n							</li>\n							<li style="font-family: 'arial'\, 'sans-serif'\; font-size: 11pt">\n								<p>\n									<span style="font-size: 10px"><span style="font-family: 'helvetica'\, 'sans-serif'"><strong>Permission to re-decide how you do business today and&nbsp\;an easy to implement structure to eliminate what no longer works</strong></span></span></p>\n							</li>\n						</ul>\n					</div>\n					<blockquote dir="ltr" style="margin-right: 0px">\n						<div dir="ltr">\n							<div style="display: inline">\n								<span style="font-size: 10px"><span style="font-family: 'helvetica'\, 'sans-serif'"><span style="font-family: verdana\, geneva"><span _fck_bookmark="1" style="display: none">&nbsp\;</span><span _fck_bookmark="1" style="display: none">&nbsp\;</span><span _fck_bookmark="1" style="display: none">&nbsp\;</span>Merit Gest\, who approaches the issue of business growth through the perspective of engaging proactive leadership to create momentum and limitless possibilities\, provides participants with specific techniques for being proactive in their business. Whereas other programs on sales&nbsp\;merely teach what to say and&nbsp\;when to say it Gest enables&nbsp\;participants to look into a crystal ball to see clearly why people get stuck in staying the course and no longer push beyond current limitations to create new possibilities in a proactive manner.&nbsp\; She has spoken to\, trained and consulted over 500 companies across the country.&nbsp\; </span></span></span><span style="font-family: 'helvetica'\, 'sans-serif'\; font-size: 12pt"><span style="font-size: 14pt"><span style="font-family: verdana\, geneva\; font-size: 10pt"><span _fck_bookmark="1" style="display: none">&nbsp\;</span><span _fck_bookmark="1" style="display: none">&nbsp\;</span><span _fck_bookmark="1" style="display: none">&nbsp\;</span><span _fck_bookmark="1" style="display: none">&nbsp\;</span></span></span></span></div>\n						</div>\n					</blockquote>\n					<p style="margin-left: 40px">\n						<span style="font-size: 10px"><span style="font-family: 'helvetica'\, 'sans-serif'"><i><strong><span _fck_bookmark="1" style="display: none">&nbsp\;</span><span _fck_bookmark="1" style="display: none">&nbsp\;</span><span _fck_bookmark="1" style="display: none">&nbsp\;</span><span _fck_bookmark="1" style="display: none">&nbsp\;</span><span _fck_bookmark="1" style="display: none">&nbsp\;</span></strong></i></span><br />\n						<br />\n						&nbsp\;</span></p>\n					<p style="margin-left: 40px">\n						<span _fck_bookmark="1" style="display: none">As an author\, clinical/educational psychologist\, keynote speaker\, business consultant\, and facilitator\, Maria has over 30 years of experience working with individuals seeking to better themselves and take greater charge of their future.</span></p>\n					<p style="margin-left: 40px">\n						<span _fck_bookmark="1" style="display: none">&nbsp\;</span></p>\n					<p style="margin-left: 40px">\n						<span _fck_bookmark="1" style="display: none">She has presented thousands of programs around the world on self management\, leadership\, personal and professional power\, life balance\, stress reduction\, and effective communication. Maria has worked with groups ranging in size from 10 to 10\,000 and has spoken to over half a million professionals worldwide.</span></p>\n					<p style="margin-left: 40px">\n						<span _fck_bookmark="1" style="display: none">&nbsp\;</span></p>\n					<p style="margin-left: 40px">\n						<span _fck_bookmark="1" style="display: none">&nbsp\;</span><span _fck_bookmark="1" style="display: none">You will leave Maria&rsquo\;s provocative and entertaining program fortified with:</span></p>\n					<span _fck_bookmark="1" style="display: none">&nbsp\;</span>\n					<p style="margin-left: 40px">\n						<span _fck_bookmark="1" style="display: none">&nbsp\; </span></p>\n					<p style="margin-left: 40px">\n						<span _fck_bookmark="1" style="display: none">As an author\, clinical/educational psychologist\, keynote speaker\, business consultant\, and facilitator\, Maria has over 30 years of experience working with individuals seeking to better themselves and take greater charge of their future.</span></p>\n					<p style="margin-left: 40px">\n						<span _fck_bookmark="1" style="display: none">&nbsp\;</span></p>\n					<p style="margin-left: 40px">\n						<span _fck_bookmark="1" style="display: none">She has presented thousands of programs around the world on self management\, leadership\, personal and professional power\, life balance\, stress reduction\, and effective communication. Maria has worked with groups ranging in size from 10 to 10\,000 and has spoken to over half a million professionals worldwide.</span></p>\n					<p style="margin-left: 40px">\n						<span _fck_bookmark="1" style="display: none">&nbsp\;</span></p>\n					<p style="margin-left: 40px">\n						<span _fck_bookmark="1" style="display: none">You will leave Maria&rsquo\;s provocative and entertaining program fortified with:</span></p>\n					<span style="font-size: 10px">&nbsp\;</span>\n					<div align="left">\n						<p style="margin-top: 0px\; margin-bottom: 0px">\n							<span style="font-family: 'helvetica'\, 'sans-serif'\; font-size: 12pt"><i><span style="font-size: 14pt"><strong><span style="font-family: 'arial'\, 'sans-serif'\; font-size: 12pt"><span _fck_bookmark="1" style="display: none">&nbsp\;</span></span></strong></span></i></span></p>\n					</div>\n				</div>\n			</div>\n		</div>\n	</div>\n</div>\n
LOCATION:Daniels Fund Building101 Monroe StreetFree Parking on the west side of the building(Please don't park on the streets)
UID:e.281.445
SEQUENCE:3
DTSTAMP:20260419T130705Z
URL:http://chambermaster.cherrycreekchamber.org/events/details/business-success-series-12-14-2010-445
END:VEVENT

END:VCALENDAR
