BEGIN:VCALENDAR
VERSION:2.0
PRODID:-//ChamberMaster//Event Calendar 2.0//EN
METHOD:PUBLISH
X-PUBLISHED-TTL:P3D
REFRESH-INTERVAL:P3D
CALSCALE:GREGORIAN
BEGIN:VEVENT
DTSTART:20091215T150000Z
DTEND:20091215T163000Z
X-MICROSOFT-CDO-ALLDAYEVENT:FALSE
SUMMARY:Business Success Series
DESCRIPTION:How to Create Balance in a World that is Moving at 120 m.p.h\n \nWe strive for success\, but once achieved\, how do we survive the break-neck pace we must move at to maintain success and stay healthy?\n \nSurvive Your Success The Perfect Storm Always Have One More Great Idea There are No Days Off in LIfe \nIrv Brown\, known as: "The Sports Talk Dean of Denver" understands success and the churn and burn pace of the sports broadcasting arena.  Irv has spent over 4 decades on both radio and television covering nearly every facet of athletics. He earned his teaching degree form the University of Northern Colorado\, and went on to coach/teach from Arvada High School to the University of Colorado. An opportunity to call out a CU/Oregon game led him down a path that would become his lifelong career in broadcasting. This walking encyclopedia of sports trivia has been heard on CBS\, ESPN\, KHOW\, KKFN\, KWHD and Raycom to name a few. In addition to being a star athlete\, coach\, referee\, inductee to the Colorado Sports Hall of Fame and renowned broadcaster\, Irv was also the founder of the infamous Gold C Book.  Tap into this amazing talent and learn what it takes to create success and then survive it.
X-ALT-DESC;FMTTYPE=text/html:<div><div><font size="2"><div><span style="font-size: x-small"><span><font size="4"><p><span style="font-size: small"><strong><em>How to Create Balance in a World that is Moving at 120 m.p.h<br /></em></strong>&nbsp\;<br />We&nbsp\;strive for success\, but once&nbsp\;achieved\,&nbsp\;how do we survive the&nbsp\;break-neck&nbsp\;pace&nbsp\;we must move at&nbsp\;to maintain&nbsp\;success <em>and</em> stay healthy?<br /></span><span><font size="4">&nbsp\;<br /></font></span></p></font></span></span><span style="font-size: small"><font size="4"><ul><li><span style="font-size: x-small">Survive Your Success </span></li><li><span style="font-size: x-small">The Perfect Storm </span></li><li><span style="font-size: x-small">Always Have One More Great Idea </span></li><li><span style="font-size: x-small">There are No Days Off in LIfe</span></li></ul><p><span style="font-size: x-small">&nbsp\;<br />Irv Brown\,&nbsp\;known as:&nbsp\;&quot\;The Sports Talk Dean of Denver&quot\; understands success and the&nbsp\;churn and burn pace of the sports broadcasting arena.&nbsp\;&nbsp\;Irv has spent over&nbsp\;4 decades on both radio and television&nbsp\;covering nearly every facet of&nbsp\;athletics.&nbsp\;He earned his teaching degree form the University of Northern Colorado\,&nbsp\;and went on to coach/teach from Arvada High School to the University of Colorado. An&nbsp\;opportunity to&nbsp\;call out a CU/Oregon game led&nbsp\;him down&nbsp\;a path that would become his lifelong career in broadcasting. This walking encyclopedia of sports trivia has&nbsp\;been heard on <em>CBS\, ESPN</em>\, <em>KHOW\, KKFN\, KWHD </em>and <em>Raycom</em> to name a few.&nbsp\;In addition to being a star athlete\, coach\, referee\, inductee to the Colorado Sports Hall of Fame and&nbsp\;renowned broadcaster\, Irv&nbsp\;was also the founder of the infamous&nbsp\;Gold C Book. &nbsp\;Tap into this amazing talent&nbsp\;and learn what it takes to create success and then survive it.</span><br />&nbsp\;</p></font></span></div></font></div></div>
LOCATION:Daniels Fund Building101 Monroe StreetFree Parking on the west side of the building(Please don't park on the streets)
UID:e.281.389
SEQUENCE:3
DTSTAMP:20260420T074052Z
URL:http://chambermaster.cherrycreekchamber.org/events/details/business-success-series-12-15-2009-389
END:VEVENT

END:VCALENDAR
