BEGIN:VCALENDAR
VERSION:2.0
PRODID:-//ChamberMaster//Event Calendar 2.0//EN
METHOD:PUBLISH
X-PUBLISHED-TTL:P3D
REFRESH-INTERVAL:P3D
CALSCALE:GREGORIAN
BEGIN:VEVENT
DTSTART:20100210T183000Z
DTEND:20100210T203000Z
X-MICROSOFT-CDO-ALLDAYEVENT:FALSE
SUMMARY:Cherry Creek Chamber Annual Luncheon
DESCRIPTION:Cherry Creek Chamber of Commerce Annual Luncheon FeaturingKeynote Speaker:  Aaron KennedyEmcee:  Reggie Rivers
X-ALT-DESC;FMTTYPE=text/html:<div><strong>Cherry Creek Chamber of Commerce Annual Luncheon</strong></div><div>&nbsp\;</div><div><strong>Featuring</strong></div><div><strong>Keynote Speaker:&nbsp\;</strong> Aaron Kennedy</div><div><strong>Emcee:&nbsp\;</strong> Reggie Rivers</div>
LOCATION:JW Marriott - Cherry Creek 150 Clayton Lane Denver\, CO 80206
UID:e.281.396
SEQUENCE:3
DTSTAMP:20260420T043356Z
URL:http://chambermaster.cherrycreekchamber.org/events/details/cherry-creek-chamber-annual-luncheon-02-10-2010-396
END:VEVENT

END:VCALENDAR
