BEGIN:VCALENDAR
VERSION:2.0
PRODID:-//ChamberMaster//Event Calendar 2.0//EN
METHOD:PUBLISH
X-PUBLISHED-TTL:P3D
REFRESH-INTERVAL:P3D
CALSCALE:GREGORIAN
BEGIN:VEVENT
DTSTART:20100128T183000Z
DTEND:20100128T200000Z
X-MICROSOFT-CDO-ALLDAYEVENT:FALSE
SUMMARY:Cherry Creek Chamber Chompers
DESCRIPTION:Meet Nick LeMasters the General Manager of the Cherry Creek Shopping Center.  This is a great opportunity to learn about the Cherry Creek Shopping Centers success.  17 - 18 million shoppers visit the Cherry Creek Shopping Center each year and it is the number one tourist attraction in Colorado.  Enjoy lunch at the Brio Tuscan Grill with fellow chamber members and learn more about the CCSC and Nick LeMasters.
X-ALT-DESC;FMTTYPE=text/html:<div>Meet Nick LeMasters the General Manager of the Cherry Creek Shopping Center.&nbsp\; This is a great opportunity to learn about the Cherry Creek Shopping Centers success.&nbsp\; 17 - 18 million shoppers visit the Cherry Creek Shopping Center each year and it is the number one tourist attraction in Colorado.&nbsp\; Enjoy lunch at the Brio Tuscan Grill with fellow chamber members and learn more about the CCSC and Nick LeMasters.</div>
LOCATION:Brio Tuscan Grill 2500 East 1st Ave.
UID:e.281.395
SEQUENCE:3
DTSTAMP:20260420T060035Z
URL:http://chambermaster.cherrycreekchamber.org/events/details/cherry-creek-chamber-chompers-01-28-2010-395
END:VEVENT

END:VCALENDAR
