BEGIN:VCALENDAR
VERSION:2.0
PRODID:-//ChamberMaster//Event Calendar 2.0//EN
METHOD:PUBLISH
X-PUBLISHED-TTL:P3D
REFRESH-INTERVAL:P3D
CALSCALE:GREGORIAN
BEGIN:VEVENT
DTSTART:20120517T233000Z
DTEND:20120518T010000Z
X-MICROSOFT-CDO-ALLDAYEVENT:FALSE
SUMMARY:Glendale - Cherry Creek Chamber Event
DESCRIPTION:INTRIGUE EVENT SERIES AT INFINITY PARK!
X-ALT-DESC;FMTTYPE=text/html:INTRIGUE EVENT SERIES AT&nbsp\;INFINITY PARK!
LOCATION:FRONTIER AIRLINES PLAZA 4400 East Kentucky Ave. Glendale\, CO 80246
UID:e.281.649
SEQUENCE:3
DTSTAMP:20260420T084638Z
URL:http://chambermaster.cherrycreekchamber.org/events/details/glendale-cherry-creek-chamber-event-05-17-2012-649
END:VEVENT

END:VCALENDAR
