BEGIN:VCALENDAR
VERSION:2.0
PRODID:-//ChamberMaster//Event Calendar 2.0//EN
METHOD:PUBLISH
X-PUBLISHED-TTL:P3D
REFRESH-INTERVAL:P3D
CALSCALE:GREGORIAN
BEGIN:VEVENT
DTSTART:20090826T150000Z
DTEND:20090826T193000Z
X-MICROSOFT-CDO-ALLDAYEVENT:FALSE
SUMMARY:Half-Day Marketing Seminar with Internet Marketing Expert Heather Lutze
DESCRIPTION:Half-Day Marketing Seminar with Internet Marketing Expert Heather Lutze
X-ALT-DESC;FMTTYPE=text/html:<div><div id="pastedDivNode" name="pastedNode"><span style="font-size: x-small"><strong>Half-Day Marketing Seminar with Internet Marketing Expert Heather Lutze</strong></span></div></div>
LOCATION:MDC Holdings Building *special event location4350 S. Monaco StreetFloor 6Denver\, CO 80237
UID:e.281.373
SEQUENCE:3
DTSTAMP:20260420T133407Z
URL:http://chambermaster.cherrycreekchamber.org/events/details/half-day-marketing-seminar-with-internet-marketing-expert-heather-lutze-08-26-2009-373
END:VEVENT

END:VCALENDAR
