BEGIN:VCALENDAR
VERSION:2.0
PRODID:-//ChamberMaster//Event Calendar 2.0//EN
METHOD:PUBLISH
X-PUBLISHED-TTL:P3D
REFRESH-INTERVAL:P3D
CALSCALE:GREGORIAN
BEGIN:VEVENT
DTSTART:20120510T230000Z
DTEND:20120511T010000Z
X-MICROSOFT-CDO-ALLDAYEVENT:FALSE
SUMMARY:Mile Hi Healthy Happenings - May 10th Event!
DESCRIPTION:Mile Hi Healthy Happenings\n\n	A Free & Festive Networking Event\n\n	Connecting people with local holistic health and wellness services and products\n\n	Spring Into Wellness - Free Event\n\n	- Get Fit with Cole Fusion\n\n	- Curious about Chinese Medicine & Acupuncture?\n\n	- Check out New Skin Care Solutions\, Massage & Waxings\n\n	- Learn about Integrative Medicine - East & West Therapies\n\n	- Taste Delicious Gluten-free Foods - Healthy Chocolates & More\n\n	- Come Meet a Life Coach\n\n	- Tune-up Your Vibes - Align Your Energy\n\n	- Enjoy More Unique Healthy Services & Products\n\n	- Win Prizes & Exclusive Discounts for YOUR health!\n\n	\n\n	Serving appetizers and refreshments - bring your business cards\n\n	\n\n	Come support several Cherry Creek Chamber of Commerce Businesses!
X-ALT-DESC;FMTTYPE=text/html:<h1 style="color: blue">\n	Mile Hi Healthy Happenings</h1>\n<h2>\n	A Free &amp\; Festive Networking Event</h2>\n<h3 style="color: blue">\n	<span style="font-size: 12px">Connecting people with local holistic health and wellness services and products</span></h3>\n<p>\n	<strong>Spring Into Wellness - Free Event</strong><br />\n	- Get Fit with Cole Fusion<br />\n	- Curious about Chinese Medicine &amp\; Acupuncture?<br />\n	- Check out New Skin Care Solutions\, Massage &amp\; Waxings<br />\n	- Learn about Integrative Medicine - East &amp\; West Therapies<br />\n	- Taste Delicious Gluten-free Foods - Healthy Chocolates &amp\; More<br />\n	- Come Meet a Life Coach<br />\n	- Tune-up Your Vibes - Align Your Energy<br />\n	- Enjoy More Unique Healthy Services &amp\; Products<br />\n	- Win Prizes &amp\; Exclusive Discounts for YOUR health!<br />\n	<br />\n	Serving appetizers and refreshments - bring your business cards<br />\n	<br />\n	Come support several Cherry Creek Chamber of Commerce Businesses!</p>\n
LOCATION:Location: Cole Fusion Fitness - 1100 Bannock Street\, Denver (11th & Bannock)
UID:e.281.658
SEQUENCE:3
DTSTAMP:20260420T100856Z
URL:http://chambermaster.cherrycreekchamber.org/events/details/mile-hi-healthy-happenings-may-10th-event-05-10-2012-658
END:VEVENT

END:VCALENDAR
