BEGIN:VCALENDAR
VERSION:2.0
PRODID:-//ChamberMaster//Event Calendar 2.0//EN
METHOD:PUBLISH
X-PUBLISHED-TTL:P3D
REFRESH-INTERVAL:P3D
CALSCALE:GREGORIAN
BEGIN:VEVENT
DTSTART:20100225T003000Z
DTEND:20100225T020000Z
X-MICROSOFT-CDO-ALLDAYEVENT:FALSE
SUMMARY:New Member Orientation
DESCRIPTION:The Cherry Creek Chamber is sponsoring a New Member Orientation on Wed.\, Feb. 24\, from 5:30 - 7:00 PM at Rodney's Restaurant\, 2819 E 2nd. Ave. (Between Fillmore & Detroit St.) in Cherry Creek\, 720-382-1117. 2-hour free parking is north of 3rd Ave.\, on the west side of Fillmore or Detroit St. (Check the street signs). Drinks & appetizers will be provided.  We will discuss how to get more out of your Chamber membership. In addition\, you will meet Board Members\, Ambassadors\, other new members and learn new ideas about how the Chamber can increase your business.
X-ALT-DESC;FMTTYPE=text/html:<div>The Cherry Creek Chamber is sponsoring a New Member Orientation on Wed.\, Feb. 24\, from 5:30 - 7:00 PM at Rodney&rsquo\;s Restaurant\, 2819 E 2<sup>nd</sup>. Ave. (Between Fillmore &amp\; Detroit St.) in Cherry Creek\, 720-382-1117. 2-hour free parking is north of 3rd Ave.\, on the west side of Fillmore or Detroit St. (Check the street signs). Drinks &amp\; appetizers will be provided. <div><font color="#000000" size="2">&nbsp\;</font></div><div><font color="#ff0000" size="1"><span style="font-size: 9pt\; color: red">We will discuss how to get more out of your Chamber membership.&nbsp\;In addition\, you will meet Board Members\, Ambassadors\, other new members and learn new ideas about how the Chamber can increase your business.</span></font></div><div><font size="2">&nbsp\;</font></div></div>
LOCATION:Rodney's2819 E 2nd Ave.Denver\, CO 80206
UID:e.281.401
SEQUENCE:3
DTSTAMP:20260420T043235Z
URL:http://chambermaster.cherrycreekchamber.org/events/details/new-member-orientation-02-24-2010-401
END:VEVENT

END:VCALENDAR
