BEGIN:VCALENDAR
VERSION:2.0
PRODID:-//ChamberMaster//Event Calendar 2.0//EN
METHOD:PUBLISH
X-PUBLISHED-TTL:P3D
REFRESH-INTERVAL:P3D
CALSCALE:GREGORIAN
BEGIN:VEVENT
DTSTART:20100615T233000Z
DTEND:20100616T010000Z
X-MICROSOFT-CDO-ALLDAYEVENT:FALSE
SUMMARY:New Member Orientation
DESCRIPTION:The Cherry Creek Chamber is sponsoring a New Member Orientation on Tues. June 15th from 5:30 - 7:00 PM at Q Worldly Barbeque in Cherry Creek Drinks & appetizers will be provided.  We will discuss how to get more out of your Chamber membership. In addition\, you will meet Board Members\, Ambassadors\, other new members and learn new ideas about how the Chamber can increase your business.
X-ALT-DESC;FMTTYPE=text/html:<div><span style="font-size: small"><span style=""><span style="font-family: Tahoma">The Cherry Creek Chamber is sponsoring a New Member Orientation on&nbsp\;Tues. June 15th&nbsp\;from 5:30 - 7:00 PM at&nbsp\;Q Worldly Barbeque in Cherry Creek Drinks &amp\; appetizers will be provided. </span></span></span><div><span style="font-size: small"><span style="font-family: Tahoma"><font color="#000000">&nbsp\;</font></span></span></div><div><span style="font-family: Tahoma"><font color="#ff0000"><span style="color: red">We will discuss how to get more out of your Chamber membership.&nbsp\;In addition\, you will meet Board Members\, Ambassadors\, other new members and learn new ideas about how the Chamber can increase your business.</span></font></span></div><div><span style="font-size: small"><span style="font-family: Tahoma">&nbsp\;</span></span></div></div>
LOCATION:Q Worldly Barbeque2817 E. 3rd Ave.Denver\, CO 80206
UID:e.281.419
SEQUENCE:3
DTSTAMP:20260419T223840Z
URL:http://chambermaster.cherrycreekchamber.org/events/details/new-member-orientation-06-15-2010-419
END:VEVENT

END:VCALENDAR
