BEGIN:VCALENDAR
VERSION:2.0
PRODID:-//ChamberMaster//Event Calendar 2.0//EN
METHOD:PUBLISH
X-PUBLISHED-TTL:P3D
REFRESH-INTERVAL:P3D
CALSCALE:GREGORIAN
BEGIN:VEVENT
DTSTART:20091014T233000Z
DTEND:20091015T010000Z
X-MICROSOFT-CDO-ALLDAYEVENT:FALSE
SUMMARY:New Member Orientation
DESCRIPTION:An introduction for new members about their membership with the Cherry Creek Chamber of Commerce.  Join us for an evening of cocktails\, appetizers\, networking and learning about what the chamber has to offer you.
X-ALT-DESC;FMTTYPE=text/html:<div>An introduction for new members about their membership with the Cherry Creek Chamber of Commerce.&nbsp\; Join us for an evening of cocktails\, appetizers\, networking and learning about what the chamber has to offer you.</div>
LOCATION:Argyll Gastro Pub2700 East 3rd Ave.Denver\, CO 80206
UID:e.281.379
SEQUENCE:3
DTSTAMP:20260420T103133Z
URL:http://chambermaster.cherrycreekchamber.org/events/details/new-member-orientation-10-14-2009-379
END:VEVENT

END:VCALENDAR
