BEGIN:VCALENDAR
VERSION:2.0
PRODID:-//ChamberMaster//Event Calendar 2.0//EN
METHOD:PUBLISH
X-PUBLISHED-TTL:P3D
REFRESH-INTERVAL:P3D
CALSCALE:GREGORIAN
BEGIN:VEVENT
DTSTART:20101103T233000Z
DTEND:20101104T010000Z
X-MICROSOFT-CDO-ALLDAYEVENT:FALSE
SUMMARY:New Member Orientation
DESCRIPTION:The Cherry Creek Chamber is sponsoring a New Member Orientation on  Novmeber 3rd from 5:30 - 7:00 PM at BRANDONS PUB in Cherry Creek.  Drinks & appetizers will be provided. \n	\n		 \n	\n		We will discuss how to get more out of your Chamber membership. In addition\, you will meet Board Members\, Ambassadors\, other new members and learn new ideas about how the Chamber can increase your business.
X-ALT-DESC;FMTTYPE=text/html:<div>\n	<div style="text-align: justify">\n		<span style="color: #000000">The Cherry Creek Chamber is sponsoring a New Member Orientation on&nbsp\;&nbsp\;Novmeber 3rd&nbsp\;from 5:30 - 7:00 PM at&nbsp\;BRANDONS&nbsp\;PUB&nbsp\;in Cherry Creek. &nbsp\;Drinks &amp\; appetizers will be provided. </span></div>\n	<div>\n		<font color="#000000">&nbsp\;</font></div>\n	<div style="text-align: justify">\n		<span style="color: #000000">We will discuss how to get more out of your Chamber membership.&nbsp\;In addition\, you will meet Board Members\, Ambassadors\, other new members and learn new ideas about how the Chamber can increase your business.</span></div>\n	<div style="text-align: justify">\n		<span style="font-size: small"><span style="font-family: tahoma">&nbsp\;</span></span></div>\n</div>\n
LOCATION:BRANDON'S PUB3027 E. 2nd Ave.Denver\, CO 80206
UID:e.281.439
SEQUENCE:3
DTSTAMP:20260419T143108Z
URL:http://chambermaster.cherrycreekchamber.org/events/details/new-member-orientation-11-03-2010-439
END:VEVENT

END:VCALENDAR
