BEGIN:VCALENDAR
VERSION:2.0
PRODID:-//ChamberMaster//Event Calendar 2.0//EN
METHOD:PUBLISH
X-PUBLISHED-TTL:P3D
REFRESH-INTERVAL:P3D
CALSCALE:GREGORIAN
BEGIN:VEVENT
DTSTART:20100704T160000Z
DTEND:20100704T220000Z
X-MICROSOFT-CDO-ALLDAYEVENT:FALSE
SUMMARY:Old Fashioned July 4th Festival
DESCRIPTION:*Meet Thomas Jefferson and Abe Lincoln\n\n*Denver Concert Band and other music\n\n*Reading of the Declaration of Independence\n\n*Civil War reenactments\n\n*Craft demonstrations\n\n*Horse-drawn rides\n\n*Mountain Men\n\n*Children's games and crafts\, sponsored by Home Depot - Glendale location
X-ALT-DESC;FMTTYPE=text/html:*Meet Thomas Jefferson and Abe Lincoln\n<br>*Denver Concert Band and other music\n<br>*Reading of the Declaration of Independence\n<br>*Civil War reenactments\n<br>*Craft demonstrations\n<br>*Horse-drawn rides\n<br>*Mountain Men\n<br>*Children's games and crafts\, sponsored by Home Depot - Glendale location
LOCATION:Four Mile Historic Park 715 S. Forest St. Denver\, CO 80246
UID:e.281.431
SEQUENCE:3
DTSTAMP:20260419T205814Z
URL:http://chambermaster.cherrycreekchamber.org/events/details/old-fashioned-july-4th-festival-07-04-2010-431
END:VEVENT

END:VCALENDAR
