BEGIN:VCALENDAR
VERSION:2.0
PRODID:-//ChamberMaster//Event Calendar 2.0//EN
METHOD:PUBLISH
X-PUBLISHED-TTL:P3D
REFRESH-INTERVAL:P3D
CALSCALE:GREGORIAN
BEGIN:VEVENT
DTSTART:20100707T231500Z
DTEND:20100708T040000Z
X-MICROSOFT-CDO-ALLDAYEVENT:FALSE
SUMMARY:Rockies Business After Hours
DESCRIPTION:Come enjoy a Business After Hours at Coors Field: Networking\, Dinner\, and a Ball Game!
X-ALT-DESC;FMTTYPE=text/html:<div><strong><font size="2">Come enjoy a Business After Hours at Coors Field: </font></strong></div><div><strong><font size="2">Networking\, Dinner\,&nbsp\;and a Ball Game!</font></strong></div>
LOCATION:Coors Field
UID:e.281.425
SEQUENCE:3
DTSTAMP:20260419T205918Z
URL:http://chambermaster.cherrycreekchamber.org/events/details/rockies-business-after-hours-07-07-2010-425
END:VEVENT

END:VCALENDAR
