BEGIN:VCALENDAR
VERSION:2.0
PRODID:-//ChamberMaster//Event Calendar 2.0//EN
METHOD:PUBLISH
X-PUBLISHED-TTL:P3D
REFRESH-INTERVAL:P3D
CALSCALE:GREGORIAN
BEGIN:VEVENT
DTSTART:20100317T133000Z
DTEND:20100317T153000Z
X-MICROSOFT-CDO-ALLDAYEVENT:FALSE
SUMMARY:Sunrise Scrambler
DESCRIPTION:Start St. Patrick's day out right!  Enjoy networking\, coffee and delicious morning treats at SEE Eyewear.
X-ALT-DESC;FMTTYPE=text/html:<div>Start St. Patrick's day out right!&nbsp\; Enjoy networking\, coffee and delicious morning treats at SEE Eyewear.</div>
LOCATION:SEE EyewearDenver\, Colorado 80206
UID:e.281.402
SEQUENCE:3
DTSTAMP:20260420T024749Z
URL:http://chambermaster.cherrycreekchamber.org/events/details/sunrise-scrambler-03-17-2010-402
END:VEVENT

END:VCALENDAR
