BEGIN:VCALENDAR
VERSION:2.0
PRODID:-//ChamberMaster//Event Calendar 2.0//EN
METHOD:PUBLISH
X-PUBLISHED-TTL:P3D
REFRESH-INTERVAL:P3D
CALSCALE:GREGORIAN
BEGIN:VEVENT
DTSTART:20100602T133000Z
DTEND:20100602T153000Z
X-MICROSOFT-CDO-ALLDAYEVENT:FALSE
SUMMARY:Sunrise Scrambler
DESCRIPTION:Join us for a Sunrise Scrambler at the Cherry Creek Spine & Sport Clinic
X-ALT-DESC;FMTTYPE=text/html:<div><p><strong><font class="cm_textHeading">Join us for a Sunrise Scrambler at the Cherry Creek Spine &amp\; Sport Clinic</font></strong></p><p>&nbsp\;</p></div>
LOCATION:Cherry Creek Spine & Sport Clinic - Dr Markijohn 400 S. Colorado Blvd Suite 300 Glendale\, CO 80246 (303) 759-5575 Fax: (303) 759-5589 http://cherrycreekspine.com
UID:e.281.416
SEQUENCE:3
DTSTAMP:20260419T223708Z
URL:http://chambermaster.cherrycreekchamber.org/events/details/sunrise-scrambler-06-02-2010-416
END:VEVENT

END:VCALENDAR
