BEGIN:VCALENDAR
VERSION:2.0
PRODID:-//ChamberMaster//Event Calendar 2.0//EN
METHOD:PUBLISH
X-PUBLISHED-TTL:P3D
REFRESH-INTERVAL:P3D
CALSCALE:GREGORIAN
BEGIN:VEVENT
DTSTART:20090603T133000Z
DTEND:20090603T150000Z
X-MICROSOFT-CDO-ALLDAYEVENT:FALSE
SUMMARY:Sunrise Scrambler
DESCRIPTION:Enjoy networking\, coffee and delicious morning treats at the unique gallery of West SouthWest.
X-ALT-DESC;FMTTYPE=text/html:<div>Enjoy networking\, coffee and delicious morning treats at the unique gallery of West SouthWest.</div>
LOCATION:West SouthWest 257 Fillmore Denver\, Colorado 80206
UID:e.281.361
SEQUENCE:3
DTSTAMP:20260420T160829Z
URL:http://chambermaster.cherrycreekchamber.org/events/details/sunrise-scrambler-06-03-2009-361
END:VEVENT

END:VCALENDAR
