BEGIN:VCALENDAR
VERSION:2.0
PRODID:-//ChamberMaster//Event Calendar 2.0//EN
METHOD:PUBLISH
X-PUBLISHED-TTL:P3D
REFRESH-INTERVAL:P3D
CALSCALE:GREGORIAN
BEGIN:VEVENT
DTSTART:20100804T133000Z
DTEND:20100804T150000Z
X-MICROSOFT-CDO-ALLDAYEVENT:FALSE
SUMMARY:Sunrise Scrambler
DESCRIPTION:Join us for networking and breakfast with the Glendale Chamber at the August Sunrise Scrambler at Staybridge Suites
X-ALT-DESC;FMTTYPE=text/html:<div><p><strong><font class="cm_textHeading">Join us for&nbsp\;networking and breakfast with&nbsp\;the Glendale Chamber&nbsp\;at the August Sunrise Scrambler at Staybridge Suites</font></strong></p><p>&nbsp\;</p></div>
LOCATION:Time: 7:30am 9:00am Date: Wednesday\, August 4th Location: Staybridge Suites 4220 East Virginia Ave. Glendale\, CO 80246 Cost: Free to CCC Members $10.00 Non-Members
UID:e.281.433
SEQUENCE:3
DTSTAMP:20260419T191344Z
URL:http://chambermaster.cherrycreekchamber.org/events/details/sunrise-scrambler-08-04-2010-433
END:VEVENT

END:VCALENDAR
