BEGIN:VCALENDAR
VERSION:2.0
PRODID:-//ChamberMaster//Event Calendar 2.0//EN
METHOD:PUBLISH
X-PUBLISHED-TTL:P3D
REFRESH-INTERVAL:P3D
CALSCALE:GREGORIAN
BEGIN:VEVENT
DTSTART:20090923T133000Z
DTEND:20090923T150000Z
X-MICROSOFT-CDO-ALLDAYEVENT:FALSE
SUMMARY:Sunrise Scrambler
DESCRIPTION:Enjoy networking\, coffee and delicious morning treats at Division West\, the hippest store in Cherry Creek North.
X-ALT-DESC;FMTTYPE=text/html:<div>Enjoy networking\, coffee and delicious morning treats at Division West\, the hippest store in Cherry Creek North.</div>
LOCATION:Division West 2632 East 3rd Ave. Denver\, Colorado 80206
UID:e.281.377
SEQUENCE:3
DTSTAMP:20260420T132817Z
URL:http://chambermaster.cherrycreekchamber.org/events/details/sunrise-scrambler-09-23-2009-377
END:VEVENT

END:VCALENDAR
