BEGIN:VCALENDAR
VERSION:2.0
PRODID:-//ChamberMaster//Event Calendar 2.0//EN
METHOD:PUBLISH
X-PUBLISHED-TTL:P3D
REFRESH-INTERVAL:P3D
CALSCALE:GREGORIAN
BEGIN:VEVENT
DTSTART:20101006T133000Z
DTEND:20101006T150000Z
X-MICROSOFT-CDO-ALLDAYEVENT:FALSE
SUMMARY:Sunrise Scrambler
DESCRIPTION:Start your morning with delicious Aviano Coffee\, breakfast and networking at the Cherry Creek Chamber Sunrise Scrambler
X-ALT-DESC;FMTTYPE=text/html:<div><span style="color: #000000">Start your morning with delicious Aviano Coffee\, breakfast and networking at the Cherry Creek Chamber Sunrise Scrambler</span></div>
LOCATION:Aviano Coffee3031 East Second Ave. (2nd & St. Paul)Denver\, CO 80206
UID:e.281.438
SEQUENCE:3
DTSTAMP:20260419T160645Z
URL:http://chambermaster.cherrycreekchamber.org/events/details/sunrise-scrambler-10-06-2010-438
END:VEVENT

END:VCALENDAR
