BEGIN:VCALENDAR
VERSION:2.0
PRODID:-//ChamberMaster//Event Calendar 2.0//EN
METHOD:PUBLISH
X-PUBLISHED-TTL:P3D
REFRESH-INTERVAL:P3D
CALSCALE:GREGORIAN
BEGIN:VEVENT
DTSTART;VALUE=DATE:20090806
DTEND;VALUE=DATE:20090807
TRANSP:TRANSPARENT
X-MICROSOFT-CDO-ALLDAYEVENT:TRUE
SUMMARY:WICKET & STICK IT
DESCRIPTION:Starch your summer whites and polish up your wicket shot because we are launching our Wicket & Stick It Croquet Tournament on Fillmore Plaza. Professional Croquet Master\, Ron Eccles will be on hand to assist players as teams compete in multiple categories including best score\, best croquet attire\, and best wicket shot.
X-ALT-DESC;FMTTYPE=text/html:<div>Starch your summer whites and polish up your wicket shot because we are launching our Wicket &amp\; Stick It Croquet Tournament on Fillmore Plaza. Professional Croquet Master\, Ron Eccles will be on hand to assist players as teams compete in multiple categories including best score\, best croquet attire\, and best wicket shot.</div>
LOCATION:WHERE: Fillmore Plaza (between 1st and 2nd on Fillmore St.)
UID:e.281.372
SEQUENCE:3
DTSTAMP:20260420T131352Z
URL:http://chambermaster.cherrycreekchamber.org/events/details/wicket-stick-it-08-06-2009-372
END:VEVENT

END:VCALENDAR
